BEGIN:VCALENDAR
VERSION:2.0
PRODID:-//pedco-ne.org//NONSGML kigkonsult.se iCalcreator 2.30.10//
CALSCALE:GREGORIAN
METHOD:PUBLISH
UID:b023ea1f-7fb0-48bc-a96a-ae8561da637b
X-WR-CALDESC:https://govology.com/events/naics-codes-six-impactful-digits-f
 or-federal-contractors/\n\nToo often overlooked\, NAICS codes are a buildi
 ng block of a successful federal contracting business. They can open doors
  to new opportunities and cause you to miss out on opportunities for which
  your company is qualified to compete.  \n\nIn this webinar\, government c
 ontracts attorney Matthew Schoonover will discuss NAICS codes in detail:\n
 \nWhat they are.\nWhy they’re important for your business.\nWhy you should
  challenge an improper NAICS code assigned to a solicitation.\nTarget Audi
 ence: small business owners and contracting personnel\n\n
X-WR-RELCALID:e63d8e6509e9424c608edcc84e80ff27
X-WR-TIMEZONE:America/Chicago
BEGIN:VTIMEZONE
TZID:America/Chicago
BEGIN:STANDARD
TZNAME:CST
DTSTART:20201101T020000
TZOFFSETFROM:-0500
TZOFFSETTO:-0600
RDATE:20211107T020000
RDATE:20221106T020000
END:STANDARD
BEGIN:DAYLIGHT
TZNAME:CDT
DTSTART:20210314T020000
TZOFFSETFROM:-0600
TZOFFSETTO:-0500
RDATE:20220313T020000
RDATE:20230312T020000
END:DAYLIGHT
END:VTIMEZONE
BEGIN:VEVENT
UID:6e610409-7b03-4ff6-962b-df92c6ba3c01
DTSTAMP:20260423T053216Z
DESCRIPTION:https://govology.com/events/naics-codes-six-impactful-digits-fo
 r-federal-contractors/\n\nToo often overlooked\, NAICS codes are a buildin
 g block of a successful federal contracting business. They can open doors 
 to new opportunities and cause you to miss out on opportunities for which 
 your company is qualified to compete.  \n\nIn this webinar\, government co
 ntracts attorney Matthew Schoonover will discuss NAICS codes in detail:\n
 \nWhat they are.\nWhy they’re important for your business.\nWhy you should
  challenge an improper NAICS code assigned to a solicitation.\nTarget Audi
 ence: small business owners and contracting personnel\n\n
DTSTART;TZID=America/Chicago:20211006T170000
DTEND;TZID=America/Chicago:20211006T183000
LOCATION:
SUMMARY:NAICS Codes: Six Impactful Digits for Federal Contractors
END:VEVENT
END:VCALENDAR
