BEGIN:VCALENDAR
VERSION:2.0
PRODID:-//pedco-ne.org//NONSGML kigkonsult.se iCalcreator 2.30.10//
CALSCALE:GREGORIAN
METHOD:PUBLISH
UID:b7247967-0090-487c-89fd-93b9dc1cefc1
X-WR-CALDESC:https://govology.com/events/past-performance-in-government-con
 tracting/\n\nPast performance is an essential component of many successful
  government contracting proposals\, but the rules governing past performan
 ce are often misunderstood.  \n\nIn this webinar\, government contracts at
 torneys Shane McCall and Nicole Pottroff discuss the use of past performan
 ce in government contracting\, including: \n\nFAR and SBA rules for evalua
 ting past performance\, \nhow the government uses the CPARS system\, \nwhe
 n the government must consider the past performance of a teammate or affil
 iate\, \nthe difference between past performance and experience\, \nhow to
  challenge an unfair past performance evaluation\, and much more.\nTarget 
 Audience: small business contractors and resources that support them (i.e.
 \, PTAC).
X-WR-RELCALID:3bfba93e337f830ff6bb6cc95ebbca21
X-WR-TIMEZONE:America/Chicago
BEGIN:VTIMEZONE
TZID:America/Chicago
BEGIN:STANDARD
TZNAME:CST
DTSTART:20201101T020000
TZOFFSETFROM:-0500
TZOFFSETTO:-0600
RDATE:20211107T020000
RDATE:20221106T020000
END:STANDARD
BEGIN:DAYLIGHT
TZNAME:CDT
DTSTART:20210314T020000
TZOFFSETFROM:-0600
TZOFFSETTO:-0500
RDATE:20220313T020000
RDATE:20230312T020000
END:DAYLIGHT
END:VTIMEZONE
BEGIN:VEVENT
UID:deb050ba-b600-4e8a-afe7-709628f32fad
DTSTAMP:20260423T053120Z
DESCRIPTION:https://govology.com/events/past-performance-in-government-cont
 racting/\n\nPast performance is an essential component of many successful 
 government contracting proposals\, but the rules governing past performanc
 e are often misunderstood.  \n\nIn this webinar\, government contracts att
 orneys Shane McCall and Nicole Pottroff discuss the use of past performanc
 e in government contracting\, including: \n\nFAR and SBA rules for evaluat
 ing past performance\, \nhow the government uses the CPARS system\, \nwhen
  the government must consider the past performance of a teammate or affili
 ate\, \nthe difference between past performance and experience\, \nhow to 
 challenge an unfair past performance evaluation\, and much more.\nTarget A
 udience: small business contractors and resources that support them (i.e.\
 , PTAC).
DTSTART;TZID=America/Chicago:20211007T170000
DTEND;TZID=America/Chicago:20211007T183000
LOCATION:
SUMMARY:Past Performance in Government Contracting
END:VEVENT
END:VCALENDAR
