BEGIN:VCALENDAR
VERSION:2.0
PRODID:-//pedco-ne.org//NONSGML kigkonsult.se iCalcreator 2.30.10//
CALSCALE:GREGORIAN
METHOD:PUBLISH
UID:8b9f845a-2882-49ab-b58c-04c8101159ae
X-WR-CALDESC:https://www.eventbrite.com/e/17th-annual-greater-minnesota-gov
 ernment-procurement-fair-virtual-tickets-181258257327\n\nFor details\, go 
 here:\nhttps://www.eventbrite.com/e/17th-annual-greater-minnesota-governme
 nt-procurement-fair-virtual-tickets-181258257327
X-WR-RELCALID:1a52abf15157b8d3ad321c1d74e8ab67
X-WR-TIMEZONE:America/Chicago
BEGIN:VTIMEZONE
TZID:America/Chicago
BEGIN:STANDARD
TZNAME:CST
DTSTART:20201101T020000
TZOFFSETFROM:-0500
TZOFFSETTO:-0600
RDATE:20211107T020000
RDATE:20221106T020000
END:STANDARD
BEGIN:DAYLIGHT
TZNAME:CDT
DTSTART:20210314T020000
TZOFFSETFROM:-0600
TZOFFSETTO:-0500
RDATE:20220313T020000
RDATE:20230312T020000
END:DAYLIGHT
END:VTIMEZONE
BEGIN:VEVENT
UID:19c6c994-887a-4382-8567-407f5e726098
DTSTAMP:20260423T052832Z
DESCRIPTION:https://www.eventbrite.com/e/17th-annual-greater-minnesota-gove
 rnment-procurement-fair-virtual-tickets-181258257327\n\nFor details\, go h
 ere:\nhttps://www.eventbrite.com/e/17th-annual-greater-minnesota-governmen
 t-procurement-fair-virtual-tickets-181258257327
DTSTART;TZID=America/Chicago:20211026T133000
DTEND;TZID=America/Chicago:20211028T200000
LOCATION:
SUMMARY:17th ANNUAL GREATER MINNESOTA GOVERNMENT PROCUREMENT FAIR (VIRTUAL)
END:VEVENT
END:VCALENDAR
