BEGIN:VCALENDAR
VERSION:2.0
PRODID:-//pedco-ne.org//NONSGML kigkonsult.se iCalcreator 2.30.10//
CALSCALE:GREGORIAN
METHOD:PUBLISH
UID:9fc176ac-5a1d-436c-a03c-5a60c71efdbf
X-WR-CALDESC:https://govology.com/events/gsa-multiple-award-schedule-is-it-
 right-for-your-company/\n\nEver since you registered in the System for Awa
 rd Management (SAM) to do business with the federal government\, you’ve be
 en probably receiving calls from telemarketers insisting that you need a G
 SA Schedule – the so-called magic bullet to sell to the federal government
 . But is it really that valuable? Are you actually eligible to bid? \n\nA 
 GSA Schedule can be an important tool for selling to government buyers\, b
 ut not every business can benefit from it. Understanding what is involved 
 in getting a GSA Schedule and what’s required to keep it long-term is esse
 ntial before making a proper Bid/No Bid decision.\n\nThis webinar is desig
 ned to achieve the following results:\n\nGive you insight into the working
 s of the General Services Administration (GSA) Multiple Award Schedule (MA
 S) program\;\nAssess if you qualify for a GSA schedule given the proposal 
 requirements\;\nHelp you understand the basis of award for pricing and the
  future implications of the Price Reduction Clause\;\nTeach you from a com
 pliance perspective what will be necessary to keep the contract and genera
 te revenue\;\nHelp you decide\, ultimately\, if the program is a good fit 
 for your company.\nTarget Audience: small businesses interested in getting
  a GSA Schedule\n\n
X-WR-RELCALID:fd48874fca3549c466d549318542427a
X-WR-TIMEZONE:America/Chicago
BEGIN:VTIMEZONE
TZID:America/Chicago
BEGIN:STANDARD
TZNAME:CST
DTSTART:20201101T020000
TZOFFSETFROM:-0500
TZOFFSETTO:-0600
RDATE:20211107T020000
RDATE:20221106T020000
END:STANDARD
BEGIN:DAYLIGHT
TZNAME:CDT
DTSTART:20210314T020000
TZOFFSETFROM:-0600
TZOFFSETTO:-0500
RDATE:20220313T020000
RDATE:20230312T020000
END:DAYLIGHT
END:VTIMEZONE
BEGIN:VEVENT
UID:9da68539-e28f-4f5d-90f2-6b6531898f4a
DTSTAMP:20260423T052957Z
DESCRIPTION:https://govology.com/events/gsa-multiple-award-schedule-is-it-r
 ight-for-your-company/\n\nEver since you registered in the System for Awar
 d Management (SAM) to do business with the federal government\, you’ve bee
 n probably receiving calls from telemarketers insisting that you need a GS
 A Schedule – the so-called magic bullet to sell to the federal government.
  But is it really that valuable? Are you actually eligible to bid? \n\nA G
 SA Schedule can be an important tool for selling to government buyers\, bu
 t not every business can benefit from it. Understanding what is involved i
 n getting a GSA Schedule and what’s required to keep it long-term is essen
 tial before making a proper Bid/No Bid decision.\n\nThis webinar is design
 ed to achieve the following results:\n\nGive you insight into the workings
  of the General Services Administration (GSA) Multiple Award Schedule (MAS
 ) program\;\nAssess if you qualify for a GSA schedule given the proposal r
 equirements\;\nHelp you understand the basis of award for pricing and the 
 future implications of the Price Reduction Clause\;\nTeach you from a comp
 liance perspective what will be necessary to keep the contract and generat
 e revenue\;\nHelp you decide\, ultimately\, if the program is a good fit f
 or your company.\nTarget Audience: small businesses interested in getting 
 a GSA Schedule\n\n
DTSTART;TZID=America/Chicago:20211028T170000
DTEND;TZID=America/Chicago:20211028T183000
LOCATION:
SUMMARY:GSA Multiple Award Schedule – Is It Right for Your Company?
END:VEVENT
END:VCALENDAR
