BEGIN:VCALENDAR
VERSION:2.0
PRODID:-//pedco-ne.org//NONSGML kigkonsult.se iCalcreator 2.30.10//
CALSCALE:GREGORIAN
METHOD:PUBLISH
UID:e21f10d4-6758-40a0-9de0-d6f65b4707a3
X-WR-CALDESC:https://govology.com/events/five-steps-to-launch-your-federal-
 2022/\n\nYou know the feeling when the Federal fiscal year is about to end
  or has just wrapped. Maybe you’re waiting to hear about wins\, super busy
  onboarding new clients\, or closing the books on what didn’t happen. Ever
 ybody’s ready to move on. It’s done — not a minute too soon! You’ve wiped 
 the slate and are planning for the new year.\n\nNot so fast! Want to make 
 the next Federal fiscal year your best one ever? There are five things you
  need to do first.\n\nJoin us for a fast-paced and fun session that will i
 nspire you and your team to new heights. You will learn five steps that\, 
 done together\, create a strong foundation for the growth you’ve always wa
 nted:\n\nThe surprising first step and why research shows it’s so powerful
 .\nThe hidden step that can boost the ROI on your investment in the past y
 ear.\nThe slow step that seeds your wins.\nThe small step that could doubl
 e your growth.\nThe firm step that keeps you grounded.\nWe’ll finish with 
 awesome resources and leave you ready to start your full Federal fiscal ye
 ar planning WAAAY before (and stronger than) your competition!\n\nTarget A
 udience: small business contractors\n\n
X-WR-RELCALID:3dc6306cca0780d8f3631815b5f23e90
X-WR-TIMEZONE:America/Chicago
BEGIN:VTIMEZONE
TZID:America/Chicago
BEGIN:STANDARD
TZNAME:CST
DTSTART:20211107T020000
TZOFFSETFROM:-0500
TZOFFSETTO:-0600
RDATE:20221106T020000
END:STANDARD
BEGIN:DAYLIGHT
TZNAME:CDT
DTSTART:20210314T020000
TZOFFSETFROM:-0600
TZOFFSETTO:-0500
RDATE:20220313T020000
RDATE:20230312T020000
END:DAYLIGHT
END:VTIMEZONE
BEGIN:VEVENT
UID:d0187495-7ce3-4881-bef9-94e6120c5cfc
DTSTAMP:20260423T040500Z
DESCRIPTION:https://govology.com/events/five-steps-to-launch-your-federal-2
 022/\n\nYou know the feeling when the Federal fiscal year is about to end 
 or has just wrapped. Maybe you’re waiting to hear about wins\, super busy 
 onboarding new clients\, or closing the books on what didn’t happen. Every
 body’s ready to move on. It’s done — not a minute too soon! You’ve wiped t
 he slate and are planning for the new year.\n\nNot so fast! Want to make t
 he next Federal fiscal year your best one ever? There are five things you 
 need to do first.\n\nJoin us for a fast-paced and fun session that will in
 spire you and your team to new heights. You will learn five steps that\, d
 one together\, create a strong foundation for the growth you’ve always wan
 ted:\n\nThe surprising first step and why research shows it’s so powerful.
 \nThe hidden step that can boost the ROI on your investment in the past ye
 ar.\nThe slow step that seeds your wins.\nThe small step that could double
  your growth.\nThe firm step that keeps you grounded.\nWe’ll finish with a
 wesome resources and leave you ready to start your full Federal fiscal yea
 r planning WAAAY before (and stronger than) your competition!\n\nTarget Au
 dience: small business contractors\n\n
DTSTART;TZID=America/Chicago:20211102T170000
DTEND;TZID=America/Chicago:20211102T183000
LOCATION:
SUMMARY:Five Steps to Launch Your Federal 2022!
END:VEVENT
END:VCALENDAR
