BEGIN:VCALENDAR
VERSION:2.0
PRODID:-//pedco-ne.org//NONSGML kigkonsult.se iCalcreator 2.30.10//
CALSCALE:GREGORIAN
METHOD:PUBLISH
UID:15742d09-f1e4-4cb0-863e-109a52562fac
X-WR-CALDESC:This one day event will offer: an overview of the state's cont
 racting with Native American / Indigenous owned businesses\; a presentatio
 n on doing business with the state\; a live demonstration of some of the t
 echnology used by the state for registering as a potential provider of goo
 ds and/or services\, locating and responding to opportunities\, and applyi
 ng for certification the state's Small Business Procurement Program\; an o
 verview of resources provided by community partners\; and 'Office Hours' f
 or a smaller breakout for your questions and gaining additional informatio
 n on how to better position yourself for government contracting.
X-WR-RELCALID:6a27e0d2eae06e426ee290abffee0fe5
X-WR-TIMEZONE:America/Chicago
BEGIN:VTIMEZONE
TZID:America/Chicago
BEGIN:STANDARD
TZNAME:CST
DTSTART:20211107T020000
TZOFFSETFROM:-0500
TZOFFSETTO:-0600
RDATE:20221106T020000
END:STANDARD
BEGIN:DAYLIGHT
TZNAME:CDT
DTSTART:20210314T020000
TZOFFSETFROM:-0600
TZOFFSETTO:-0500
RDATE:20220313T020000
RDATE:20230312T020000
END:DAYLIGHT
END:VTIMEZONE
BEGIN:VEVENT
UID:ca03f628-b986-43b6-bed7-b4fb5341dc6c
DTSTAMP:20260423T052832Z
DESCRIPTION:This one day event will offer: an overview of the state's contr
 acting with Native American / Indigenous owned businesses\; a presentation
  on doing business with the state\; a live demonstration of some of the te
 chnology used by the state for registering as a potential provider of good
 s and/or services\, locating and responding to opportunities\, and applyin
 g for certification the state's Small Business Procurement Program\; an ov
 erview of resources provided by community partners\; and 'Office Hours' fo
 r a smaller breakout for your questions and gaining additional information
  on how to better position yourself for government contracting.
DTSTART;TZID=America/Chicago:20211117T090000
DTEND;TZID=America/Chicago:20211117T130000
LOCATION:https://mngov.ecenterdirect.com/events/1637
SUMMARY:Procurement Equity Summit
END:VEVENT
END:VCALENDAR
