BEGIN:VCALENDAR
VERSION:2.0
PRODID:-//pedco-ne.org//NONSGML kigkonsult.se iCalcreator 2.30.10//
CALSCALE:GREGORIAN
METHOD:PUBLISH
UID:3d052701-f46c-4641-b8ff-9bbd07782aed
X-WR-CALDESC:The Davis-Bacon Act applies to contractors and subcontractors 
 performing on federally funded or assisted contracts in excess of $2\,000 
 for the construction\, alteration\, or repair (including painting and deco
 rating) of public buildings or public works. Davis-Bacon Act and Related A
 ct contractors and subcontractors must pay their laborers and mechanics em
 ployed under the contract no less than the locally prevailing wages and fr
 inge benefits for corresponding work on similar projects in the area. \n\n
 Join Corey Walton\, US Department of Labor (Wage and Hour Division - Minne
 sota Office) to learn more about the Davis-Bacon Act (and related Acts) an
 d ensure that your business is compliant with these Federal requirements.
X-WR-RELCALID:06964a49bcce652af2af18df1362f2f0
X-WR-TIMEZONE:America/Chicago
BEGIN:VTIMEZONE
TZID:America/Chicago
BEGIN:STANDARD
TZNAME:CST
DTSTART:20211107T020000
TZOFFSETFROM:-0500
TZOFFSETTO:-0600
RDATE:20221106T020000
END:STANDARD
BEGIN:DAYLIGHT
TZNAME:CDT
DTSTART:20210314T020000
TZOFFSETFROM:-0600
TZOFFSETTO:-0500
RDATE:20220313T020000
RDATE:20230312T020000
END:DAYLIGHT
END:VTIMEZONE
BEGIN:VEVENT
UID:6de73e5f-28cc-454c-84bd-74fa002a350f
DTSTAMP:20260423T005517Z
DESCRIPTION:The Davis-Bacon Act applies to contractors and subcontractors p
 erforming on federally funded or assisted contracts in excess of $2\,000 f
 or the construction\, alteration\, or repair (including painting and decor
 ating) of public buildings or public works. Davis-Bacon Act and Related Ac
 t contractors and subcontractors must pay their laborers and mechanics emp
 loyed under the contract no less than the locally prevailing wages and fri
 nge benefits for corresponding work on similar projects in the area. \n\nJ
 oin Corey Walton\, US Department of Labor (Wage and Hour Division - Minnes
 ota Office) to learn more about the Davis-Bacon Act (and related Acts) and
  ensure that your business is compliant with these Federal requirements.
DTSTART;TZID=America/Chicago:20220112T100000
DTEND;TZID=America/Chicago:20220112T113000
LOCATION:Webinar - Contact PEDCO PTAC for Details
SUMMARY:Federal Contractors and the Davis-Bacon Act: What You Need To Know!
END:VEVENT
END:VCALENDAR
