BEGIN:VCALENDAR
VERSION:2.0
PRODID:-//pedco-ne.org//NONSGML kigkonsult.se iCalcreator 2.30.10//
CALSCALE:GREGORIAN
METHOD:PUBLISH
UID:4b6f48a8-f4d5-4963-9fe5-117632907458
X-WR-CALDESC:This webinar will help government contractors understand the i
 ns and outs of accounting for successful costing and pricing. \n\nYou’ll l
 earn how to:\n\ncreate a compliant cost accounting system\;\nanswer accoun
 ting system questions in an RFP\, and \ncomplete the Accounting Narrative 
 if requested. \nPlus\, you’ll gain insights into how to structure your Ind
 irect Rate Structure for bidding and execution success. \n\nDon’t miss out
  on this valuable learning opportunity!\n\nTarget Audience: This webinar i
 s for businesses that want to ensure accurate and compliant accounting whe
 n bidding on government projects.
X-WR-RELCALID:cf1739471b12b6d61ed78802a4c6cee3
X-WR-TIMEZONE:America/Chicago
BEGIN:VTIMEZONE
TZID:America/Chicago
BEGIN:STANDARD
TZNAME:CST
DTSTART:20211107T020000
TZOFFSETFROM:-0500
TZOFFSETTO:-0600
RDATE:20221106T020000
END:STANDARD
BEGIN:DAYLIGHT
TZNAME:CDT
DTSTART:20210314T020000
TZOFFSETFROM:-0600
TZOFFSETTO:-0500
RDATE:20220313T020000
RDATE:20230312T020000
END:DAYLIGHT
END:VTIMEZONE
BEGIN:VEVENT
UID:bcd20353-7ddd-4cb3-ab2b-e7ca90fe13d8
DTSTAMP:20260422T231418Z
DESCRIPTION:This webinar will help government contractors understand the in
 s and outs of accounting for successful costing and pricing. \n\nYou’ll le
 arn how to:\n\ncreate a compliant cost accounting system\;\nanswer account
 ing system questions in an RFP\, and \ncomplete the Accounting Narrative i
 f requested. \nPlus\, you’ll gain insights into how to structure your Indi
 rect Rate Structure for bidding and execution success. \n\nDon’t miss out 
 on this valuable learning opportunity!\n\nTarget Audience: This webinar is
  for businesses that want to ensure accurate and compliant accounting when
  bidding on government projects.
DTSTART;TZID=America/Chicago:20220203T120000
DTEND;TZID=America/Chicago:20220203T133000
LOCATION:https://govology.com/product/cost-price-realism-and-pricing-strate
 gy-in-government-contracting/
SUMMARY:Cost/Price Realism and Pricing Strategy in Government Contracting
END:VEVENT
END:VCALENDAR
