BEGIN:VCALENDAR
VERSION:2.0
PRODID:-//pedco-ne.org//NONSGML kigkonsult.se iCalcreator 2.30.10//
CALSCALE:GREGORIAN
METHOD:PUBLISH
UID:ec7dab75-9581-474f-8b27-e036a4a78770
X-WR-CALDESC:As a contractor providing services to the federal government\,
  there are many requirements to be aware of.  But for many employers\, kee
 ping up with those requirements and knowing where to turn with questions c
 an be challenging.  So who better to turn to\, than the agency that enforc
 es the federal Service Contract Act (SCA) provisions!  This virtual webina
 r\, conducted by the U.S. Department of Labor’s Wage & Hour Division will 
 provide attendees with a strong working knowledge of the basic requirement
 s of the SCA. \n\nThis webinar will cover:\nAm I paying the correct prevai
 ling wage amounts to my employees?\nWhat rate must I pay to my employees i
 f they work overtime on SCA contract work?\nHow does vacation pay and holi
 day pay work for SCA workers? \nWhat are the recordkeeping requirements fo
 r SCA work?\n
X-WR-RELCALID:20d6acc5feec0012effef651622949ac
X-WR-TIMEZONE:America/Chicago
BEGIN:VTIMEZONE
TZID:America/Chicago
BEGIN:STANDARD
TZNAME:CST
DTSTART:20211107T020000
TZOFFSETFROM:-0500
TZOFFSETTO:-0600
RDATE:20221106T020000
END:STANDARD
BEGIN:DAYLIGHT
TZNAME:CDT
DTSTART:20210314T020000
TZOFFSETFROM:-0600
TZOFFSETTO:-0500
RDATE:20220313T020000
RDATE:20230312T020000
END:DAYLIGHT
END:VTIMEZONE
BEGIN:VEVENT
UID:95319c60-f299-45b9-97b7-9b33e529beac
DTSTAMP:20260422T231820Z
DESCRIPTION:As a contractor providing services to the federal government\, 
 there are many requirements to be aware of.  But for many employers\, keep
 ing up with those requirements and knowing where to turn with questions ca
 n be challenging.  So who better to turn to\, than the agency that enforce
 s the federal Service Contract Act (SCA) provisions!  This virtual webinar
 \, conducted by the U.S. Department of Labor’s Wage & Hour Division will p
 rovide attendees with a strong working knowledge of the basic requirements
  of the SCA. \n\nThis webinar will cover:\nAm I paying the correct prevail
 ing wage amounts to my employees?\nWhat rate must I pay to my employees if
  they work overtime on SCA contract work?\nHow does vacation pay and holid
 ay pay work for SCA workers? \nWhat are the recordkeeping requirements for
  SCA work?\n
DTSTART;TZID=America/Chicago:20220209T100000
DTEND;TZID=America/Chicago:20220209T113000
LOCATION:Virtual Webinar - Contact PEDCO PTAC for registration details
SUMMARY:Service Contract Act -  Essential Information For Government Contra
 ct Service Providers!
END:VEVENT
END:VCALENDAR
