BEGIN:VCALENDAR
VERSION:2.0
PRODID:-//pedco-ne.org//NONSGML kigkonsult.se iCalcreator 2.30.10//
CALSCALE:GREGORIAN
METHOD:PUBLISH
UID:2dab5ed1-93c3-4f36-8739-26b20bdc5cd6
X-WR-CALDESC:(Free for PEDCO PTAC clients - contact us for coupon code)\n\n
 The Buy Indian Act is a law that gives contracting preference to companies
  owned by Native American tribes. This law has been on the books for a cen
 tury but has never effectively accomplished its goal. So has its time fina
 lly come? This webinar will discuss the Buy Indian Act and other rules and
  regulations that provide advantages to tribal entities.\n\nTarget Audienc
 e: Entities owned by Native American tribes\, Native Hawaiian Organization
 s\, and Alaska Native Corporations that do business with the federal gover
 nment.
X-WR-RELCALID:3ce3ad5da49cab2d9a9332e573fd831f
X-WR-TIMEZONE:America/Chicago
BEGIN:VTIMEZONE
TZID:America/Chicago
BEGIN:STANDARD
TZNAME:CST
DTSTART:20211107T020000
TZOFFSETFROM:-0500
TZOFFSETTO:-0600
RDATE:20221106T020000
END:STANDARD
BEGIN:DAYLIGHT
TZNAME:CDT
DTSTART:20210314T020000
TZOFFSETFROM:-0600
TZOFFSETTO:-0500
RDATE:20220313T020000
RDATE:20230312T020000
END:DAYLIGHT
END:VTIMEZONE
BEGIN:VEVENT
UID:6ce5aa82-40c5-431f-8d11-c63d2c0c73f1
DTSTAMP:20260422T215233Z
DESCRIPTION:(Free for PEDCO PTAC clients - contact us for coupon code)\n\nT
 he Buy Indian Act is a law that gives contracting preference to companies 
 owned by Native American tribes. This law has been on the books for a cent
 ury but has never effectively accomplished its goal. So has its time final
 ly come? This webinar will discuss the Buy Indian Act and other rules and 
 regulations that provide advantages to tribal entities.\n\nTarget Audience
 : Entities owned by Native American tribes\, Native Hawaiian Organizations
 \, and Alaska Native Corporations that do business with the federal govern
 ment.
DTSTART;TZID=America/Chicago:20220310T120000
DTEND;TZID=America/Chicago:20220310T133000
LOCATION:https://govology.com/events/how-the-buy-indian-act-can-help-your-b
 usiness-succeed-with-federal-contracts/
SUMMARY:How the Buy Indian Act Can Help Your Business Succeed with Federal 
 Contracts
END:VEVENT
END:VCALENDAR
