BEGIN:VCALENDAR
VERSION:2.0
PRODID:-//pedco-ne.org//NONSGML kigkonsult.se iCalcreator 2.30.10//
CALSCALE:GREGORIAN
METHOD:PUBLISH
UID:3fb65c16-4869-4220-8ccb-2a38144cfdd9
X-WR-CALDESC:(free for PEDCO PTAC clients - contact us for coupon code)\n\n
 For large and small contractors alike\, teaming agreements\, joint venture
  agreements and subcontracts can be essential to winning and successfully 
 performing federal government contracts. In this three-part series\, gover
 nment contracts attorneys Shane McCall and Nicole Pottroff explain how to 
 develop\, negotiate and administer agreements that are both compliant and 
 effective. The presentations will cover both the key rules (such as flow-d
 owns and ostensible subcontractor affiliation) and best practices for agre
 ements that go beyond the bare minimum legal requirements.\n\nTarget Audie
 nce: Small business federal contractors and their teammates
X-WR-RELCALID:e696cb103ac63d106bef0b997ef515f5
X-WR-TIMEZONE:America/Chicago
BEGIN:VTIMEZONE
TZID:America/Chicago
BEGIN:STANDARD
TZNAME:CST
DTSTART:20211107T020000
TZOFFSETFROM:-0500
TZOFFSETTO:-0600
RDATE:20221106T020000
END:STANDARD
BEGIN:DAYLIGHT
TZNAME:CDT
DTSTART:20220313T020000
TZOFFSETFROM:-0600
TZOFFSETTO:-0500
RDATE:20230312T020000
END:DAYLIGHT
END:VTIMEZONE
BEGIN:VEVENT
UID:79be59a1-f0a8-4823-b2ef-c8c50aefb044
DTSTAMP:20260422T215151Z
DESCRIPTION:(free for PEDCO PTAC clients - contact us for coupon code)\n\nF
 or large and small contractors alike\, teaming agreements\, joint venture 
 agreements and subcontracts can be essential to winning and successfully p
 erforming federal government contracts. In this three-part series\, govern
 ment contracts attorneys Shane McCall and Nicole Pottroff explain how to d
 evelop\, negotiate and administer agreements that are both compliant and e
 ffective. The presentations will cover both the key rules (such as flow-do
 wns and ostensible subcontractor affiliation) and best practices for agree
 ments that go beyond the bare minimum legal requirements.\n\nTarget Audien
 ce: Small business federal contractors and their teammates
DTSTART;TZID=America/Chicago:20220322T120000
DTEND;TZID=America/Chicago:20220324T133000
LOCATION:https://govology.com/events/compliant-and-effective-teaming-agreem
 ents-joint-ventures-subcontracts-3-part-series-2022-update/
SUMMARY:Compliant and Effective Teaming Agreements\, Joint Ventures & Subco
 ntracts – 3-Part Series (2022 Update)
END:VEVENT
END:VCALENDAR
