BEGIN:VCALENDAR
VERSION:2.0
PRODID:-//pedco-ne.org//NONSGML kigkonsult.se iCalcreator 2.30.10//
CALSCALE:GREGORIAN
METHOD:PUBLISH
UID:d04fbcc3-0d7c-4c7a-8613-26083d7b74cc
X-WR-CALDESC:(free for PEDCO PTAC clients - for more information\, contact 
 Darren Osborne at dosborne@pedcoptac.org)\n\nIn this webinar\, Mr. Greger 
 (DCAA) provides an overview of the pre-award accounting system design revi
 ew process. You will learn:\n\nWhat occurs before the award of a cost-type
  contract.\nThe contents of the SF 1408. \nWhat applicable DFARS regulatio
 ns say about the requirements for an acceptable accounting system. \nMr. G
 reger also discusses total contract costs\, including direct and indirect 
 costs. He provides examples of typically seen indirect rates and discusses
  selecting a proper allocation base. You will learn about the FAR Part 31 
 clauses that cover allowability\, allocability\, and reasonableness as wel
 l as concepts such as Contract Terms\, Accounting for Contract Costs\, Lab
 or System\, Timekeeping\, Unallowable Costs\, Cost by Contract Line Item\,
  Billings\, Cost Accounting Information\, and Management Reviews/Internal 
 Audits. Finally\, Mr. Greger discusses some common deficiencies to help yo
 u avoid making the same mistakes.\n\nTarget Audience: small business owner
 s\, CPAs/IPAs who support small businesses\, individuals in the procuremen
 t community.\n\n
X-WR-RELCALID:05f510032ec44d86d69e95bc1978344f
X-WR-TIMEZONE:America/Chicago
BEGIN:VTIMEZONE
TZID:America/Chicago
BEGIN:STANDARD
TZNAME:CST
DTSTART:20211107T020000
TZOFFSETFROM:-0500
TZOFFSETTO:-0600
RDATE:20221106T020000
END:STANDARD
BEGIN:DAYLIGHT
TZNAME:CDT
DTSTART:20220313T020000
TZOFFSETFROM:-0600
TZOFFSETTO:-0500
RDATE:20230312T020000
END:DAYLIGHT
END:VTIMEZONE
BEGIN:VEVENT
UID:951e5cab-a235-4d03-8784-21bb3a7bfcde
DTSTAMP:20260422T201115Z
DESCRIPTION:(free for PEDCO PTAC clients - for more information\, contact D
 arren Osborne at dosborne@pedcoptac.org)\n\nIn this webinar\, Mr. Greger (
 DCAA) provides an overview of the pre-award accounting system design revie
 w process. You will learn:\n\nWhat occurs before the award of a cost-type 
 contract.\nThe contents of the SF 1408. \nWhat applicable DFARS regulation
 s say about the requirements for an acceptable accounting system. \nMr. Gr
 eger also discusses total contract costs\, including direct and indirect c
 osts. He provides examples of typically seen indirect rates and discusses 
 selecting a proper allocation base. You will learn about the FAR Part 31 c
 lauses that cover allowability\, allocability\, and reasonableness as well
  as concepts such as Contract Terms\, Accounting for Contract Costs\, Labo
 r System\, Timekeeping\, Unallowable Costs\, Cost by Contract Line Item\, 
 Billings\, Cost Accounting Information\, and Management Reviews/Internal A
 udits. Finally\, Mr. Greger discusses some common deficiencies to help you
  avoid making the same mistakes.\n\nTarget Audience: small business owners
 \, CPAs/IPAs who support small businesses\, individuals in the procurement
  community.\n\n
DTSTART;TZID=America/Chicago:20220405T120000
DTEND;TZID=America/Chicago:20220405T133000
LOCATION:https://govology.com/events/accounting-system-requirements-for-gov
 con/
SUMMARY:Accounting System Requirements for GovCon
END:VEVENT
END:VCALENDAR
