BEGIN:VCALENDAR
VERSION:2.0
PRODID:-//pedco-ne.org//NONSGML kigkonsult.se iCalcreator 2.30.10//
CALSCALE:GREGORIAN
METHOD:PUBLISH
UID:4aa0ad89-bdf5-4a2d-bc74-c760ac4b21cd
X-WR-CALDESC:As a contractor providing services to the federal government\,
  there are many requirements to be aware of. But for many employers\, keep
 ing up with those requirements and knowing where to turn with questions ca
 n be challenging. So who better to turn to\, than the agency that enforces
  the federal Service Contract Act (SCA) provisions! This virtual webinar\,
  conducted by the U.S. Department of Labor’s Wage & Hour Division will pro
 vide attendees with a strong working knowledge of the basic requirements o
 f the SCA.\n\nThis webinar will cover:\n•Am I paying the correct prevailin
 g wage amounts to my employees?\n•What rate must I pay to my employees if 
 they work overtime on SCA contract work?\n•How does vacation pay and holid
 ay pay work for SCA workers?\n•What are the recordkeeping requirements for
  SCA work?\n
X-WR-RELCALID:f8ebcd8526d40d6ec4037c0d218921c6
X-WR-TIMEZONE:America/Chicago
BEGIN:VTIMEZONE
TZID:America/Chicago
BEGIN:STANDARD
TZNAME:CST
DTSTART:20211107T020000
TZOFFSETFROM:-0500
TZOFFSETTO:-0600
RDATE:20221106T020000
END:STANDARD
BEGIN:DAYLIGHT
TZNAME:CDT
DTSTART:20220313T020000
TZOFFSETFROM:-0600
TZOFFSETTO:-0500
RDATE:20230312T020000
END:DAYLIGHT
END:VTIMEZONE
BEGIN:VEVENT
UID:2fa1a784-892b-4135-bc4c-45503cc9232f
DTSTAMP:20260424T082316Z
DESCRIPTION:As a contractor providing services to the federal government\, 
 there are many requirements to be aware of. But for many employers\, keepi
 ng up with those requirements and knowing where to turn with questions can
  be challenging. So who better to turn to\, than the agency that enforces 
 the federal Service Contract Act (SCA) provisions! This virtual webinar\, 
 conducted by the U.S. Department of Labor’s Wage & Hour Division will prov
 ide attendees with a strong working knowledge of the basic requirements of
  the SCA.\n\nThis webinar will cover:\n•Am I paying the correct prevailing
  wage amounts to my employees?\n•What rate must I pay to my employees if t
 hey work overtime on SCA contract work?\n•How does vacation pay and holida
 y pay work for SCA workers?\n•What are the recordkeeping requirements for 
 SCA work?\n
DTSTART;TZID=America/Chicago:20220414T100000
DTEND;TZID=America/Chicago:20220414T110000
LOCATION:A web based event hosted by PEDCO PTAC - contact Darren Osborne fo
 r event link
SUMMARY:Service Contract Act - Essential Information For Government Contrac
 t Service Providers!
END:VEVENT
END:VCALENDAR
