BEGIN:VCALENDAR
VERSION:2.0
PRODID:-//pedco-ne.org//NONSGML kigkonsult.se iCalcreator 2.30.10//
CALSCALE:GREGORIAN
METHOD:PUBLISH
UID:b4fcfd1a-a137-492f-ac2b-6054a0ac9f93
X-WR-CALDESC:(free of charge for PEDCO PTAC clients - contact Darren Osborn
 e for more information)\n\nThe information presented in a proposal must be
  clear and compelling to ensure its success. George Cornwell\, an evaluato
 r for the government for 35 years\, knows this better than anyone else. He
  has read too many proposals that fell short because they lacked one or mo
 re necessary elements.\n\nThe way you present your ideas can make all of t
 he difference between whether people are interested enough to read all the
  way through to what it is that you’re offering them\, as well as being ab
 le to easily understand exactly why YOUR services would solve a problem or
  issue at hand effectively without any additional explanation.\n\nIn this 
 webinar\, you will learn the following:\n\nThe importance of consistency\n
 Attention to detail\nPros and cons for using photos and graphics\nThe use 
 of solicitation terminology\nTarget Audience: marketing professionals to i
 nclude proposal managers and their teams
X-WR-RELCALID:94aa4a3ecfbf16c9e76999c43429add7
X-WR-TIMEZONE:America/Chicago
BEGIN:VTIMEZONE
TZID:America/Chicago
BEGIN:STANDARD
TZNAME:CST
DTSTART:20211107T020000
TZOFFSETFROM:-0500
TZOFFSETTO:-0600
RDATE:20221106T020000
END:STANDARD
BEGIN:DAYLIGHT
TZNAME:CDT
DTSTART:20220313T020000
TZOFFSETFROM:-0600
TZOFFSETTO:-0500
RDATE:20230312T020000
END:DAYLIGHT
END:VTIMEZONE
BEGIN:VEVENT
UID:d38a60f4-254f-4f8e-af8b-c6171b7d51f9
DTSTAMP:20260422T201453Z
DESCRIPTION:(free of charge for PEDCO PTAC clients - contact Darren Osborne
  for more information)\n\nThe information presented in a proposal must be 
 clear and compelling to ensure its success. George Cornwell\, an evaluator
  for the government for 35 years\, knows this better than anyone else. He 
 has read too many proposals that fell short because they lacked one or mor
 e necessary elements.\n\nThe way you present your ideas can make all of th
 e difference between whether people are interested enough to read all the 
 way through to what it is that you’re offering them\, as well as being abl
 e to easily understand exactly why YOUR services would solve a problem or 
 issue at hand effectively without any additional explanation.\n\nIn this w
 ebinar\, you will learn the following:\n\nThe importance of consistency\nA
 ttention to detail\nPros and cons for using photos and graphics\nThe use o
 f solicitation terminology\nTarget Audience: marketing professionals to in
 clude proposal managers and their teams
DTSTART;TZID=America/Chicago:20220420T120000
DTEND;TZID=America/Chicago:20220420T130000
LOCATION:https://govology.com/events/never-leave-a-question-in-the-governme
 nt-evaluators-mind/
SUMMARY:Never Leave a Question in the Government Evaluator’s Mind
END:VEVENT
END:VCALENDAR
