BEGIN:VCALENDAR
VERSION:2.0
PRODID:-//pedco-ne.org//NONSGML kigkonsult.se iCalcreator 2.30.10//
CALSCALE:GREGORIAN
METHOD:PUBLISH
UID:3f3e6b39-49c5-4e31-960d-90293c539234
X-WR-CALDESC:Spring into action… The MNTCC Is kicking off its first event o
 f 2022 with a Native-forward networking event and job fair. This is an opp
 ortunity for the MNTCC to showcase the strength of the Native business eco
 nomy and elevated workforce. Our indigenous Community is built upon innova
 tion\, perseverance\, and pride. The time is now for all to be at 'the tab
 le' supporting each other's differences as strengths as we all work to cre
 ate a better future for the next generation.\n\nWho this event is for:\n\n
 Native-owned businesses\,\n\nEntrepreneurs\,\n\nStrategic Partners\,\n\nPr
 ivate Industry\,\n\nState and Federal contracting partners\,\n\nCDFI's\,\n
 \nUnions\,\n\nand those looking to work with Native businesses and hire Na
 tive employees.
X-WR-RELCALID:195f301fb94871252cd82df6ef3a9a13
X-WR-TIMEZONE:America/Chicago
BEGIN:VTIMEZONE
TZID:America/Chicago
BEGIN:STANDARD
TZNAME:CST
DTSTART:20211107T020000
TZOFFSETFROM:-0500
TZOFFSETTO:-0600
RDATE:20221106T020000
END:STANDARD
BEGIN:DAYLIGHT
TZNAME:CDT
DTSTART:20220313T020000
TZOFFSETFROM:-0600
TZOFFSETTO:-0500
RDATE:20230312T020000
END:DAYLIGHT
END:VTIMEZONE
BEGIN:VEVENT
UID:fd2d7563-f40e-4eb1-bbc6-a748ad751e53
DTSTAMP:20260422T201827Z
DESCRIPTION:Spring into action… The MNTCC Is kicking off its first event of
  2022 with a Native-forward networking event and job fair. This is an oppo
 rtunity for the MNTCC to showcase the strength of the Native business econ
 omy and elevated workforce. Our indigenous Community is built upon innovat
 ion\, perseverance\, and pride. The time is now for all to be at 'the tabl
 e' supporting each other's differences as strengths as we all work to crea
 te a better future for the next generation.\n\nWho this event is for:\n\nN
 ative-owned businesses\,\n\nEntrepreneurs\,\n\nStrategic Partners\,\n\nPri
 vate Industry\,\n\nState and Federal contracting partners\,\n\nCDFI's\,\n
 \nUnions\,\n\nand those looking to work with Native businesses and hire Na
 tive employees.
DTSTART;TZID=America/Chicago:20220426T150000
DTEND;TZID=America/Chicago:20220426T180000
LOCATION:Clyde Iron Works - \, 2920 West Michigan Street\, \, Duluth\, \, M
 N 55806 US
SUMMARY:Minnesota Tribal Contractors Council - Spring Networking and Jobs M
 ixer
END:VEVENT
END:VCALENDAR
