BEGIN:VCALENDAR
VERSION:2.0
PRODID:-//pedco-ne.org//NONSGML kigkonsult.se iCalcreator 2.30.10//
CALSCALE:GREGORIAN
METHOD:PUBLISH
UID:fa95b033-4dbb-45bc-89df-2e4da2406dbd
X-WR-CALDESC:Welcome to the 2022 SADBOC Government Procurement Virtual Trai
 ning Week!\n\nThe annual SADBOC fair is Virtual for this year\, similar to
  last year's fair.\n\nWe have scheduled workshops to help you grow and com
 pete on government contracts. The workshops are being hosted by the MN PTA
 C on their WebEx platform. Different organizations will be presenting time
 ly topics and time-tested basics.\n\nThe fair runs Monday through Thursday
  with different classes on the hour from 9 a.m. to 3 p.m. CST\n\nSADBOC is
  FREE! Attend as many of the workshops as you want!\n\nWe are focused on m
 aking this virtual SADBOC Government Procurement Fair benefit your busines
 s. Your business is important to the success of our procuring agencies and
  prime contractors.\n\nCompleted program with workshop links will be email
 ed to registered attendees!\n\nMatchmaking: Friday\, April 29th. Registrat
 ion for the matchmaking will open on April 7th.\n\nThis event is hosted by
  the Federal Executive Board of Minnesota\, in cooperation with the Procur
 ement Technical Assistance Center and U.S. Small Business Administration.
 \n\nProgram sessions include:\n\nDay One:\n\nInfrastructure Bill Overview
 \n\nThe Basics of Selling to the Government\n\nSelling to the State of Min
 nesota\n\nGeneral Services Administration (GSA) What You Need to Know\n\nG
 etting Registered in SAM.gov the Right Way\n\nFinding Opportunities\n\nDay
  Two:\n\nSmall Business Needs Big CyberSecurity\n\nPerforming through a Pa
 ndemic: Contract Performance in the Era of COVID\n\nTips and Traps for Sma
 ll Business Government Contractors\n\nStarting a Small Business in Minneso
 ta\n\nLocal Contracting Opportunities Through HUD-Funded Grantees\n\nFeder
 al Agency Procurement Forecast Panel - USACE\, HHS\, ED\, 934th AW\n\nDay 
 Three:\n\nFederal Wage and Hour Laws in COVID Times\n\nProposal Developmen
 t\n\nContract Audit and Administration (Project Close-Out/Past Performance
 /CPARs) - Per FAR 42\n\nAccess to Capital\n\nPitch Yourself! – Preparing f
 or Matchmaking\n\nState & Local Government Agency Procurement Forecast Pan
 el - MN Admin\, MnDOT\, Minneapolis\, MetCouncil\n\nDay Four:\n\nFederal C
 ertifications (8(a)\; HUBZone\; WOSB/EDWOSB)\n\nDisadvantaged Business Ent
 erprise (DBE) Certification\n\nState of MN Targeted Group/Economically Dis
 advantaged/Veteran Owned (TG/ED/VO)\n\nCERT Certification Program Overview
 \n\nMBE & WBE (Corporate) Certification for Minority or Women Owned Busine
 sses\n\nPrime Contractor Panel - Successful Subcontracting
X-WR-RELCALID:606338c0c591d2c268a1d6b48e136910
X-WR-TIMEZONE:America/Chicago
BEGIN:VTIMEZONE
TZID:America/Chicago
BEGIN:STANDARD
TZNAME:CST
DTSTART:20211107T020000
TZOFFSETFROM:-0500
TZOFFSETTO:-0600
RDATE:20221106T020000
END:STANDARD
BEGIN:DAYLIGHT
TZNAME:CDT
DTSTART:20220313T020000
TZOFFSETFROM:-0600
TZOFFSETTO:-0500
RDATE:20230312T020000
END:DAYLIGHT
END:VTIMEZONE
BEGIN:VEVENT
UID:2a0e37ec-f938-4a4b-bca6-ff5aca7eef03
DTSTAMP:20260422T201346Z
DESCRIPTION:Welcome to the 2022 SADBOC Government Procurement Virtual Train
 ing Week!\n\nThe annual SADBOC fair is Virtual for this year\, similar to 
 last year's fair.\n\nWe have scheduled workshops to help you grow and comp
 ete on government contracts. The workshops are being hosted by the MN PTAC
  on their WebEx platform. Different organizations will be presenting timel
 y topics and time-tested basics.\n\nThe fair runs Monday through Thursday 
 with different classes on the hour from 9 a.m. to 3 p.m. CST\n\nSADBOC is 
 FREE! Attend as many of the workshops as you want!\n\nWe are focused on ma
 king this virtual SADBOC Government Procurement Fair benefit your business
 . Your business is important to the success of our procuring agencies and 
 prime contractors.\n\nCompleted program with workshop links will be emaile
 d to registered attendees!\n\nMatchmaking: Friday\, April 29th. Registrati
 on for the matchmaking will open on April 7th.\n\nThis event is hosted by 
 the Federal Executive Board of Minnesota\, in cooperation with the Procure
 ment Technical Assistance Center and U.S. Small Business Administration.\n
 \nProgram sessions include:\n\nDay One:\n\nInfrastructure Bill Overview\n
 \nThe Basics of Selling to the Government\n\nSelling to the State of Minne
 sota\n\nGeneral Services Administration (GSA) What You Need to Know\n\nGet
 ting Registered in SAM.gov the Right Way\n\nFinding Opportunities\n\nDay T
 wo:\n\nSmall Business Needs Big CyberSecurity\n\nPerforming through a Pand
 emic: Contract Performance in the Era of COVID\n\nTips and Traps for Small
  Business Government Contractors\n\nStarting a Small Business in Minnesota
 \n\nLocal Contracting Opportunities Through HUD-Funded Grantees\n\nFederal
  Agency Procurement Forecast Panel - USACE\, HHS\, ED\, 934th AW\n\nDay Th
 ree:\n\nFederal Wage and Hour Laws in COVID Times\n\nProposal Development
 \n\nContract Audit and Administration (Project Close-Out/Past Performance/
 CPARs) - Per FAR 42\n\nAccess to Capital\n\nPitch Yourself! – Preparing fo
 r Matchmaking\n\nState & Local Government Agency Procurement Forecast Pane
 l - MN Admin\, MnDOT\, Minneapolis\, MetCouncil\n\nDay Four:\n\nFederal Ce
 rtifications (8(a)\; HUBZone\; WOSB/EDWOSB)\n\nDisadvantaged Business Ente
 rprise (DBE) Certification\n\nState of MN Targeted Group/Economically Disa
 dvantaged/Veteran Owned (TG/ED/VO)\n\nCERT Certification Program Overview
 \n\nMBE & WBE (Corporate) Certification for Minority or Women Owned Busine
 sses\n\nPrime Contractor Panel - Successful Subcontracting
DTSTART;TZID=America/Chicago:20220425T090000
DTEND;TZID=America/Chicago:20220428T150000
LOCATION:https://www.eventbrite.com/e/23rd-annual-sadboc-government-procure
 ment-virtual-training-week-tickets-297090374307
SUMMARY:23rd Annual SADBOC Government Procurement Virtual Training Week
END:VEVENT
END:VCALENDAR
