BEGIN:VCALENDAR
VERSION:2.0
PRODID:-//pedco-ne.org//NONSGML kigkonsult.se iCalcreator 2.30.10//
CALSCALE:GREGORIAN
METHOD:PUBLISH
UID:075e36d5-6787-4809-b05b-a82d3b000090
X-WR-CALDESC:This Webinar will cover:\n► How To Do Business With FEMA\n► FE
 MA’s Small Business Program\n► Category Management\n► FEMA Contracting\n► 
 FEMA Private Sector Liaisons\n► Small Business Administration (SBA) Progra
 ms\n► Minority Business Development Agency (MBDA) Programs
X-WR-RELCALID:6c443b815c1eeb4658c58f75615d80a2
X-WR-TIMEZONE:America/Chicago
BEGIN:VTIMEZONE
TZID:America/Chicago
BEGIN:STANDARD
TZNAME:CST
DTSTART:20211107T020000
TZOFFSETFROM:-0500
TZOFFSETTO:-0600
RDATE:20221106T020000
END:STANDARD
BEGIN:DAYLIGHT
TZNAME:CDT
DTSTART:20220313T020000
TZOFFSETFROM:-0600
TZOFFSETTO:-0500
RDATE:20230312T020000
END:DAYLIGHT
END:VTIMEZONE
BEGIN:VEVENT
UID:a5b77e64-789c-4bf1-b831-69645139f249
DTSTAMP:20260422T184238Z
DESCRIPTION:This Webinar will cover:\n► How To Do Business With FEMA\n► FEM
 A’s Small Business Program\n► Category Management\n► FEMA Contracting\n► F
 EMA Private Sector Liaisons\n► Small Business Administration (SBA) Program
 s\n► Minority Business Development Agency (MBDA) Programs
DTSTART;TZID=America/Chicago:20220504T120000
DTEND;TZID=America/Chicago:20220504T143000
LOCATION:https://fema.zoomgov.com/webinar/register/WN_wL4CYmw-QtexV2AlPpWOT
 Q
SUMMARY:How To Do Business With FEMA ZOOM Webinar
END:VEVENT
END:VCALENDAR
