BEGIN:VCALENDAR
VERSION:2.0
PRODID:-//pedco-ne.org//NONSGML kigkonsult.se iCalcreator 2.30.10//
CALSCALE:GREGORIAN
METHOD:PUBLISH
UID:d4f32827-bc21-4ef8-b19d-e67530b90323
X-WR-CALDESC:
X-WR-RELCALID:0b416966a261b674488066440b246761
X-WR-TIMEZONE:America/Chicago
BEGIN:VTIMEZONE
TZID:America/Chicago
BEGIN:STANDARD
TZNAME:CST
DTSTART:20211107T020000
TZOFFSETFROM:-0500
TZOFFSETTO:-0600
RDATE:20221106T020000
RDATE:20231105T020000
END:STANDARD
BEGIN:DAYLIGHT
TZNAME:CDT
DTSTART:20220313T020000
TZOFFSETFROM:-0600
TZOFFSETTO:-0500
RDATE:20230312T020000
END:DAYLIGHT
END:VTIMEZONE
BEGIN:VEVENT
UID:fa2d2c0f-cb16-4925-b2ee-0a04954a40cb
DTSTAMP:20260422T201254Z
DESCRIPTION:
DTSTART;TZID=America/Chicago:20220512T130000
DTEND;TZID=America/Chicago:20220512T143000
LOCATION:
SUMMARY:Incurred Cost Submissions for GovCon
END:VEVENT
END:VCALENDAR
