BEGIN:VCALENDAR
VERSION:2.0
PRODID:-//pedco-ne.org//NONSGML kigkonsult.se iCalcreator 2.30.10//
CALSCALE:GREGORIAN
METHOD:PUBLISH
UID:b4d7b44e-8962-49cb-92e0-5ad58ff9494b
X-WR-CALDESC:
X-WR-RELCALID:af695563fea25458f1469fd80afe290b
X-WR-TIMEZONE:America/Chicago
BEGIN:VTIMEZONE
TZID:America/Chicago
BEGIN:STANDARD
TZNAME:CST
DTSTART:20211107T020000
TZOFFSETFROM:-0500
TZOFFSETTO:-0600
RDATE:20221106T020000
RDATE:20231105T020000
END:STANDARD
BEGIN:DAYLIGHT
TZNAME:CDT
DTSTART:20220313T020000
TZOFFSETFROM:-0600
TZOFFSETTO:-0500
RDATE:20230312T020000
END:DAYLIGHT
END:VTIMEZONE
BEGIN:VEVENT
UID:43c00bd3-d41f-4473-9be0-a7080d838dcb
DTSTAMP:20260422T184334Z
DESCRIPTION:
DTSTART;TZID=America/Chicago:20220517T130000
DTEND;TZID=America/Chicago:20220517T143000
LOCATION:
SUMMARY:Wide Area Workflow – The DoD’s Primary Portal for Invoicing (2022 U
 pdate)
END:VEVENT
END:VCALENDAR
