BEGIN:VCALENDAR
VERSION:2.0
PRODID:-//pedco-ne.org//NONSGML kigkonsult.se iCalcreator 2.30.10//
CALSCALE:GREGORIAN
METHOD:PUBLISH
UID:8cd5be4d-4a26-4e46-8172-5b65df53c99a
X-WR-CALDESC:
X-WR-RELCALID:ae5d39fe6ff5094d878e0fc4486af191
X-WR-TIMEZONE:America/Chicago
BEGIN:VTIMEZONE
TZID:America/Chicago
BEGIN:STANDARD
TZNAME:CST
DTSTART:20211107T020000
TZOFFSETFROM:-0500
TZOFFSETTO:-0600
RDATE:20221106T020000
RDATE:20231105T020000
END:STANDARD
BEGIN:DAYLIGHT
TZNAME:CDT
DTSTART:20220313T020000
TZOFFSETFROM:-0600
TZOFFSETTO:-0500
RDATE:20230312T020000
END:DAYLIGHT
END:VTIMEZONE
BEGIN:VEVENT
UID:f9019e91-5ac2-4e31-8226-0e71704fb4c1
DTSTAMP:20260422T184110Z
DESCRIPTION:
DTSTART;TZID=America/Chicago:20220531T130000
DTEND;TZID=America/Chicago:20220531T143000
LOCATION:
SUMMARY:How to Bid on Government Construction Projects
END:VEVENT
END:VCALENDAR
