BEGIN:VCALENDAR
VERSION:2.0
PRODID:-//pedco-ne.org//NONSGML kigkonsult.se iCalcreator 2.30.10//
CALSCALE:GREGORIAN
METHOD:PUBLISH
UID:c59c4153-3c6c-4adf-aee2-c8b9bab49d1b
X-WR-CALDESC:Meet with contracting officials seeking qualified Native Ameri
 can Indian suppliers!\n\nThe Native American Vendor Industry Day Matchmake
 r is focused exclusively on American Indian and Alaskan Native businesses 
 owned by Federally Recognized Tribes and their members.\n\nBy taking part 
 in the Matchmaker you have the opportunity to present your company’s goods
  and/or services to contracting officials from the Bureau of Indian Affair
 s (BIA) and Indian Health Services(IHS)\, Indian Affairs (AS-IA) for 'Buy 
 Indian Act'\, and other procurement opportunities.\n\nThis event will prov
 ide you the opportunity to generate 10–15-minute meetings with different r
 epresentatives to stimulate potential teaming opportunities and future con
 tracts.
X-WR-RELCALID:b20409243c4b29659160a42f7d9156d1
X-WR-TIMEZONE:America/Chicago
BEGIN:VTIMEZONE
TZID:America/Chicago
BEGIN:STANDARD
TZNAME:CST
DTSTART:20211107T020000
TZOFFSETFROM:-0500
TZOFFSETTO:-0600
RDATE:20221106T020000
RDATE:20231105T020000
END:STANDARD
BEGIN:DAYLIGHT
TZNAME:CDT
DTSTART:20220313T020000
TZOFFSETFROM:-0600
TZOFFSETTO:-0500
RDATE:20230312T020000
END:DAYLIGHT
END:VTIMEZONE
BEGIN:VEVENT
UID:bbe10a45-99c3-40d3-ac8e-a3256059fd05
DTSTAMP:20260422T170918Z
DESCRIPTION:Meet with contracting officials seeking qualified Native Americ
 an Indian suppliers!\n\nThe Native American Vendor Industry Day Matchmaker
  is focused exclusively on American Indian and Alaskan Native businesses o
 wned by Federally Recognized Tribes and their members.\n\nBy taking part i
 n the Matchmaker you have the opportunity to present your company’s goods 
 and/or services to contracting officials from the Bureau of Indian Affairs
  (BIA) and Indian Health Services(IHS)\, Indian Affairs (AS-IA) for 'Buy I
 ndian Act'\, and other procurement opportunities.\n\nThis event will provi
 de you the opportunity to generate 10–15-minute meetings with different re
 presentatives to stimulate potential teaming opportunities and future cont
 racts.
DTSTART;TZID=America/Chicago:20220608T110000
DTEND;TZID=America/Chicago:20220608T190000
LOCATION:https://biaihs2022virtualmatchmaker.mbmapp.com/
SUMMARY:The 2022 Indian Affairs & Indian Health Services Native American Ve
 ndor Industry Day Matchmaker
END:VEVENT
END:VCALENDAR
