BEGIN:VCALENDAR
VERSION:2.0
PRODID:-//pedco-ne.org//NONSGML kigkonsult.se iCalcreator 2.30.10//
CALSCALE:GREGORIAN
METHOD:PUBLISH
UID:a5d705b1-5c24-4e0f-9468-c4933b35dc14
X-WR-CALDESC:*Free access for PEDCO PTAC clients - contact Darren Osborne f
 or details)\n\nTwo domestic preference statutes dominate federal governmen
 t contracting: the Buy American Act and the Trade Agreements Act. These st
 atutes\, and the FAR’s implementing provisions\, dictate how contractors c
 an source the goods (and sometimes services) they furnish to the federal g
 overnment.\n\nIn this webinar\, the government contracts attorney John Mat
 tox (Schoonover & Moriarty LLC) will cover both statutes through a regulat
 ory overview\, explanations of key concepts\, and examples to drive unders
 tanding. You will also learn about the recent regulatory changes that furt
 her entrench the Buy American Act in the federal contracting sphere.\n\nTa
 rget Audience: This webinar is aimed at all federal contractors who provid
 e goods and supplies to the federal government.\n\n
X-WR-RELCALID:e7c9e124dac6632c10e46f7047e6dd47
X-WR-TIMEZONE:America/Chicago
BEGIN:VTIMEZONE
TZID:America/Chicago
BEGIN:STANDARD
TZNAME:CST
DTSTART:20211107T020000
TZOFFSETFROM:-0500
TZOFFSETTO:-0600
RDATE:20221106T020000
RDATE:20231105T020000
END:STANDARD
BEGIN:DAYLIGHT
TZNAME:CDT
DTSTART:20220313T020000
TZOFFSETFROM:-0600
TZOFFSETTO:-0500
RDATE:20230312T020000
END:DAYLIGHT
END:VTIMEZONE
BEGIN:VEVENT
UID:b80cdcb7-a455-48ff-85e2-6954d0aa998b
DTSTAMP:20260422T170451Z
DESCRIPTION:*Free access for PEDCO PTAC clients - contact Darren Osborne fo
 r details)\n\nTwo domestic preference statutes dominate federal government
  contracting: the Buy American Act and the Trade Agreements Act. These sta
 tutes\, and the FAR’s implementing provisions\, dictate how contractors ca
 n source the goods (and sometimes services) they furnish to the federal go
 vernment.\n\nIn this webinar\, the government contracts attorney John Matt
 ox (Schoonover & Moriarty LLC) will cover both statutes through a regulato
 ry overview\, explanations of key concepts\, and examples to drive underst
 anding. You will also learn about the recent regulatory changes that furth
 er entrench the Buy American Act in the federal contracting sphere.\n\nTar
 get Audience: This webinar is aimed at all federal contractors who provide
  goods and supplies to the federal government.\n\n
DTSTART;TZID=America/Chicago:20220609T120000
DTEND;TZID=America/Chicago:20220609T133000
LOCATION:https://govology.com/events/understanding-the-domestic-preference-
 statutes-the-buy-american-act-and-trade-agreements-act-2022-update/
SUMMARY:Understanding the Domestic Preference Statutes: The Buy American Ac
 t and Trade Agreements Act (2022 Update)
END:VEVENT
END:VCALENDAR
