BEGIN:VCALENDAR
VERSION:2.0
PRODID:-//pedco-ne.org//NONSGML kigkonsult.se iCalcreator 2.30.10//
CALSCALE:GREGORIAN
METHOD:PUBLISH
UID:16459fb7-336f-4516-8fb2-0749a5e146fc
X-WR-CALDESC:(Free access for PEDCO PTAC clients - contact Darren Osborne f
 or details)\n\nIn our last webinar\, Intro to US Export Compliance: ITAR a
 nd EAR (now available on-demand)\, Jack Shelton (Aegis Trade Law) provided
  a broad overview of export regulations\, touching on both the ITAR (Inter
 national Traffic in Arms Regulations) and the EAR (The Export Administrati
 on Regulations). ITAR restrict and control the export of defense and milit
 ary related technologies while EAR govern the export and re-export of some
  commodities\, software and technology.\n\nThis webinar takes a deeper div
 e into ITAR\, which covers defense-related articles and services on the Un
 ited States Munitions List. You will learn more about how to obtain licens
 es and other approvals under the ITAR and certain ITAR exemptions.\n\nTarg
 et Audience: Any business involved in manufacturing\, designing\, or tradi
 ng in items on the US Munitions List.
X-WR-RELCALID:54204d6a57bc5f20d9e779ee099691ec
X-WR-TIMEZONE:America/Chicago
BEGIN:VTIMEZONE
TZID:America/Chicago
BEGIN:STANDARD
TZNAME:CST
DTSTART:20211107T020000
TZOFFSETFROM:-0500
TZOFFSETTO:-0600
RDATE:20221106T020000
RDATE:20231105T020000
END:STANDARD
BEGIN:DAYLIGHT
TZNAME:CDT
DTSTART:20220313T020000
TZOFFSETFROM:-0600
TZOFFSETTO:-0500
RDATE:20230312T020000
END:DAYLIGHT
END:VTIMEZONE
BEGIN:VEVENT
UID:c8f06090-2b7c-46df-a9bc-53b4a7c7d772
DTSTAMP:20260422T170452Z
DESCRIPTION:(Free access for PEDCO PTAC clients - contact Darren Osborne fo
 r details)\n\nIn our last webinar\, Intro to US Export Compliance: ITAR an
 d EAR (now available on-demand)\, Jack Shelton (Aegis Trade Law) provided 
 a broad overview of export regulations\, touching on both the ITAR (Intern
 ational Traffic in Arms Regulations) and the EAR (The Export Administratio
 n Regulations). ITAR restrict and control the export of defense and milita
 ry related technologies while EAR govern the export and re-export of some 
 commodities\, software and technology.\n\nThis webinar takes a deeper dive
  into ITAR\, which covers defense-related articles and services on the Uni
 ted States Munitions List. You will learn more about how to obtain license
 s and other approvals under the ITAR and certain ITAR exemptions.\n\nTarge
 t Audience: Any business involved in manufacturing\, designing\, or tradin
 g in items on the US Munitions List.
DTSTART;TZID=America/Chicago:20220621T120000
DTEND;TZID=America/Chicago:20220621T133000
LOCATION:https://govology.com/product/international-traffic-in-arms-regulat
 ions-itar-basics/
SUMMARY:International Traffic in Arms Regulations (ITAR) Basics
END:VEVENT
END:VCALENDAR
