BEGIN:VCALENDAR
VERSION:2.0
PRODID:-//pedco-ne.org//NONSGML kigkonsult.se iCalcreator 2.30.10//
CALSCALE:GREGORIAN
METHOD:PUBLISH
UID:cf845ad2-0819-4566-8647-6f3ee7f2b940
X-WR-CALDESC:*Free access for PEDCO PTAC clients - contact Darren Osborne f
 or details*\n\nThis webinar will help you understand how your business can
  grow and diversify by tapping into the world’s largest and most recession
 -proof marketplace. After this training\, you will:\n\nGrasp the size of t
 he government marketplace\, define government market opportunities\, and u
 nderstand how they vary by size\, industry\, complexity\, and agency.\nDet
 ermine if government market opportunities are right for your small busines
 s.\nAssess your strengths and weakness that will either help or hinder you
  as you enter the government marketplace.\nUnderstand the “Big Picture” of
  the Government marketplace\, why many small businesses fail\, and how you
  can succeed.\nLeverage thousands of dollars in free resources to help you
  succeed and know how to steer clear of common pitfalls.\nAvoid wasting pr
 ecious time in pursuit of government market opportunities.\nUnderstand the
  importance of having a government market mastermind alliance and how to b
 uild one.\nDispel common myths and misconceptions about the government mar
 ketplace\, and make your decisions based on facts.\n\nTarget Audience: Sma
 ll businesses interested in diversifying through government market opportu
 nities.
X-WR-RELCALID:e3a953dd08e565a2f7f668e38c093316
X-WR-TIMEZONE:America/Chicago
BEGIN:VTIMEZONE
TZID:America/Chicago
BEGIN:STANDARD
TZNAME:CST
DTSTART:20211107T020000
TZOFFSETFROM:-0500
TZOFFSETTO:-0600
RDATE:20221106T020000
RDATE:20231105T020000
END:STANDARD
BEGIN:DAYLIGHT
TZNAME:CDT
DTSTART:20220313T020000
TZOFFSETFROM:-0600
TZOFFSETTO:-0500
RDATE:20230312T020000
END:DAYLIGHT
END:VTIMEZONE
BEGIN:VEVENT
UID:28fe0373-60f1-4c7a-a66f-0dc90de5d675
DTSTAMP:20260422T170710Z
DESCRIPTION:*Free access for PEDCO PTAC clients - contact Darren Osborne fo
 r details*\n\nThis webinar will help you understand how your business can 
 grow and diversify by tapping into the world’s largest and most recession-
 proof marketplace. After this training\, you will:\n\nGrasp the size of th
 e government marketplace\, define government market opportunities\, and un
 derstand how they vary by size\, industry\, complexity\, and agency.\nDete
 rmine if government market opportunities are right for your small business
 .\nAssess your strengths and weakness that will either help or hinder you 
 as you enter the government marketplace.\nUnderstand the “Big Picture” of 
 the Government marketplace\, why many small businesses fail\, and how you 
 can succeed.\nLeverage thousands of dollars in free resources to help you 
 succeed and know how to steer clear of common pitfalls.\nAvoid wasting pre
 cious time in pursuit of government market opportunities.\nUnderstand the 
 importance of having a government market mastermind alliance and how to bu
 ild one.\nDispel common myths and misconceptions about the government mark
 etplace\, and make your decisions based on facts.\n\nTarget Audience: Smal
 l businesses interested in diversifying through government market opportun
 ities.
DTSTART;TZID=America/Chicago:20220622T120000
DTEND;TZID=America/Chicago:20220622T133000
LOCATION:https://govology.com/product/explore/
SUMMARY:Exploring the Government Marketplace for Small Businesses (2022 Upd
 ate)
END:VEVENT
END:VCALENDAR
