BEGIN:VCALENDAR
VERSION:2.0
PRODID:-//pedco-ne.org//NONSGML kigkonsult.se iCalcreator 2.30.10//
CALSCALE:GREGORIAN
METHOD:PUBLISH
UID:712398d4-a31b-4aa6-9ce6-9ee7fdff2ea1
X-WR-CALDESC:*Free access for PEDCO PTAC clients - contact Darren Osborne f
 or details*\n\nThis webinar provides a big-picture overview of small busin
 ess certifications in the government marketplace. In this webinar\, you wi
 ll learn about various federal small business certification programs\, inc
 luding Small Business Self Certification\, Small Disadvantaged Business (S
 DB) & 8(a)\, Service-Disabled Veteran-Owned Small Business (SDVOSB)\, Vete
 ran-Owned Small Business (VOSB)\, Historically Underutilized Business Zone
 s (HUBZone)\, Woman-Owned Small Business (WOSB)\, and Economic Disadvantag
 ed Woman-Owned Small Business (EDWOSB). We will also touch on state and lo
 cal certification programs and provide information on additional training 
 and resources you can use to develop a deeper understanding and get help w
 ith any federal\, state\, and small business certification program.\n\nAft
 er completing this course\, you will:\n\nlearn why certification programs 
 can be helpful for small businesses\;\nlearn how to determine if you are e
 ligible for a federal small business certification\;\nfind out where to ap
 ply for various federal certifications\;\nlearn about various types of sta
 te and local certification programs\;\nunderstand how state and local smal
 l business certification programs differ from federal\, and\nlearn about a
 dditional training and resources to help you navigate federal\, state\, an
 d local certification programs.\nTarget Audience: Small business contracto
 rs pursuing opportunities in the government marketplace
X-WR-RELCALID:7b761af774ddb20d83e3695ec2311ffb
X-WR-TIMEZONE:America/Chicago
BEGIN:VTIMEZONE
TZID:America/Chicago
BEGIN:STANDARD
TZNAME:CST
DTSTART:20211107T020000
TZOFFSETFROM:-0500
TZOFFSETTO:-0600
RDATE:20221106T020000
RDATE:20231105T020000
END:STANDARD
BEGIN:DAYLIGHT
TZNAME:CDT
DTSTART:20220313T020000
TZOFFSETFROM:-0600
TZOFFSETTO:-0500
RDATE:20230312T020000
END:DAYLIGHT
END:VTIMEZONE
BEGIN:VEVENT
UID:9b54d37d-2420-439f-9d73-c57135bd21d2
DTSTAMP:20260422T170514Z
DESCRIPTION:*Free access for PEDCO PTAC clients - contact Darren Osborne fo
 r details*\n\nThis webinar provides a big-picture overview of small busine
 ss certifications in the government marketplace. In this webinar\, you wil
 l learn about various federal small business certification programs\, incl
 uding Small Business Self Certification\, Small Disadvantaged Business (SD
 B) & 8(a)\, Service-Disabled Veteran-Owned Small Business (SDVOSB)\, Veter
 an-Owned Small Business (VOSB)\, Historically Underutilized Business Zones
  (HUBZone)\, Woman-Owned Small Business (WOSB)\, and Economic Disadvantage
 d Woman-Owned Small Business (EDWOSB). We will also touch on state and loc
 al certification programs and provide information on additional training a
 nd resources you can use to develop a deeper understanding and get help wi
 th any federal\, state\, and small business certification program.\n\nAfte
 r completing this course\, you will:\n\nlearn why certification programs c
 an be helpful for small businesses\;\nlearn how to determine if you are el
 igible for a federal small business certification\;\nfind out where to app
 ly for various federal certifications\;\nlearn about various types of stat
 e and local certification programs\;\nunderstand how state and local small
  business certification programs differ from federal\, and\nlearn about ad
 ditional training and resources to help you navigate federal\, state\, and
  local certification programs.\nTarget Audience: Small business contractor
 s pursuing opportunities in the government marketplace
DTSTART;TZID=America/Chicago:20220623T120000
DTEND;TZID=America/Chicago:20220623T133000
LOCATION:https://govology.com/product/an-introduction-to-government-small-b
 usiness-certifications/
SUMMARY:An Introduction to Government Small Business Certifications
END:VEVENT
END:VCALENDAR
