BEGIN:VCALENDAR
VERSION:2.0
PRODID:-//pedco-ne.org//NONSGML kigkonsult.se iCalcreator 2.30.10//
CALSCALE:GREGORIAN
METHOD:PUBLISH
UID:1e84b900-9e48-4ae8-8e29-c8c117148ebf
X-WR-CALDESC:(Free for PEDCO PTAC clients - contact Darren Osborne for more
  details)\n\nUnder the Brooks Act\, architecture and engineering services 
 (A-E Services) must be procured\nthrough a qualifications-based process fo
 r agencies to select the most highly qualified firms –\nnot the lowest pri
 ce.\n\nSince 2004\, A-E firms submit their qualifications on the Standard 
 Form 330 (SF330) for federal government agencies (and some state and local
  agencies). The SF330 form is designed to demonstrate a firm’s competence 
 and qualifications to perform the work required by the government.\n\nDeve
 loping SF330 responses to government solicitations is part art and part pr
 ocess. In this 3-\npart training we’ll dissect the best practices and the 
 proven process to prepare detailed and responsive SF330s while letting you
 r creativity and brand come through. Using real-world feedback from Govern
 ment reviewers\, we’ll present a step-by-step discussion of each SF330 sec
 tion\, emphasizing key success factors to ensure the entire submission hig
 hlights your firm’s personnel and past performance to help you rise to the
  top.\n\nHere’s what you will learn:\n\nWebinar 1 – An Overview of the SF3
 30 and Standard Best Practices for Part I and Part II\n(60 minutes)\n\nSF3
 30 evolution from the SF254/255\nTrends today\nCritical success factors\nH
 ow agencies evaluate the forms\nOverview of Part I\nOverview of Part II\nS
 F330 Preparation Checklist\nData calls to support your win themes\nWebinar
  2 – Preparing your SF330 Response\; Part I Sections A-G (90 Minutes)\n\nS
 ections A and B – Stick to the facts\nSection C – Maximize your team\nSect
 ion D – Organizational Charts that display success\nSection E – Show your 
 professional qualifications\nSection F – Demonstrate specialized experienc
 e\nSection G – Relationship status\nWebinar 3 – Preparing your SF330 Respo
 nse\; Part I Section H\, Part II\, and Final Quality\nControl (90 Minutes)
 \n\nSection H\nDissecting the solicitation\nOutlining and storyboarding ea
 ch required factor\nPart II – required information and alignment with Sect
 ions C\, E\, and F\nSF330 QC Checklist\nTarget Audience: Architecture and 
 engineering firms required to submit their qualifications on the Standard 
 Form 330 (SF330)\n\n
X-WR-RELCALID:c5160be195529828c4f3df9e6b8baa47
X-WR-TIMEZONE:America/Chicago
BEGIN:VTIMEZONE
TZID:America/Chicago
BEGIN:STANDARD
TZNAME:CST
DTSTART:20211107T020000
TZOFFSETFROM:-0500
TZOFFSETTO:-0600
RDATE:20221106T020000
RDATE:20231105T020000
END:STANDARD
BEGIN:DAYLIGHT
TZNAME:CDT
DTSTART:20220313T020000
TZOFFSETFROM:-0600
TZOFFSETTO:-0500
RDATE:20230312T020000
END:DAYLIGHT
END:VTIMEZONE
BEGIN:VEVENT
UID:b06f6b01-da86-47f9-981b-2b55c7a3ec07
DTSTAMP:20260422T170451Z
DESCRIPTION:(Free for PEDCO PTAC clients - contact Darren Osborne for more 
 details)\n\nUnder the Brooks Act\, architecture and engineering services (
 A-E Services) must be procured\nthrough a qualifications-based process for
  agencies to select the most highly qualified firms –\nnot the lowest pric
 e.\n\nSince 2004\, A-E firms submit their qualifications on the Standard F
 orm 330 (SF330) for federal government agencies (and some state and local 
 agencies). The SF330 form is designed to demonstrate a firm’s competence a
 nd qualifications to perform the work required by the government.\n\nDevel
 oping SF330 responses to government solicitations is part art and part pro
 cess. In this 3-\npart training we’ll dissect the best practices and the p
 roven process to prepare detailed and responsive SF330s while letting your
  creativity and brand come through. Using real-world feedback from Governm
 ent reviewers\, we’ll present a step-by-step discussion of each SF330 sect
 ion\, emphasizing key success factors to ensure the entire submission high
 lights your firm’s personnel and past performance to help you rise to the 
 top.\n\nHere’s what you will learn:\n\nWebinar 1 – An Overview of the SF33
 0 and Standard Best Practices for Part I and Part II\n(60 minutes)\n\nSF33
 0 evolution from the SF254/255\nTrends today\nCritical success factors\nHo
 w agencies evaluate the forms\nOverview of Part I\nOverview of Part II\nSF
 330 Preparation Checklist\nData calls to support your win themes\nWebinar 
 2 – Preparing your SF330 Response\; Part I Sections A-G (90 Minutes)\n\nSe
 ctions A and B – Stick to the facts\nSection C – Maximize your team\nSecti
 on D – Organizational Charts that display success\nSection E – Show your p
 rofessional qualifications\nSection F – Demonstrate specialized experience
 \nSection G – Relationship status\nWebinar 3 – Preparing your SF330 Respon
 se\; Part I Section H\, Part II\, and Final Quality\nControl (90 Minutes)
 \n\nSection H\nDissecting the solicitation\nOutlining and storyboarding ea
 ch required factor\nPart II – required information and alignment with Sect
 ions C\, E\, and F\nSF330 QC Checklist\nTarget Audience: Architecture and 
 engineering firms required to submit their qualifications on the Standard 
 Form 330 (SF330)\n\n
DTSTART;TZID=America/Chicago:20220712T120000
DTEND;TZID=America/Chicago:20220714T133000
LOCATION:https://govology.com/events/sf330-production-primer/
SUMMARY:Peak Proposal Prowess – A Primer for SF330 Production (3-Part Serie
 s)
END:VEVENT
END:VCALENDAR
