BEGIN:VCALENDAR
VERSION:2.0
PRODID:-//pedco-ne.org//NONSGML kigkonsult.se iCalcreator 2.30.10//
CALSCALE:GREGORIAN
METHOD:PUBLISH
UID:0af48bcb-e326-4333-9dc2-cccee52b0e21
X-WR-CALDESC:(Free for PEDCO PTAC clients - contact Darren Osborne for more
  information)\n\nA capability statement is your business’ primary marketin
 g tool in the federal marketplace. There are plenty of factors to consider
  when marketing your business to prime vendors and government agencies. Be
  sure your statement gives your potential buyers what they need to evaluat
 e you as a “responsible” and qualified contractor\, setting your business 
 apart from your competitors.\n\nIn this webinar\, you will learn:\n\nhow t
 o format your capability statement\nwhat content to include\nwhen to use i
 t\, and\nhow to create a content-repurposing process for future versions.
 \nTarget Audience: Business owners seeking federal contracting and subcont
 racting opportunities.
X-WR-RELCALID:91089c47db4f90382742ddcd8c324645
X-WR-TIMEZONE:America/Chicago
BEGIN:VTIMEZONE
TZID:America/Chicago
BEGIN:STANDARD
TZNAME:CST
DTSTART:20211107T020000
TZOFFSETFROM:-0500
TZOFFSETTO:-0600
RDATE:20221106T020000
RDATE:20231105T020000
END:STANDARD
BEGIN:DAYLIGHT
TZNAME:CDT
DTSTART:20220313T020000
TZOFFSETFROM:-0600
TZOFFSETTO:-0500
RDATE:20230312T020000
END:DAYLIGHT
END:VTIMEZONE
BEGIN:VEVENT
UID:04a60a47-fa81-4970-b061-83611a7c3873
DTSTAMP:20260422T155329Z
DESCRIPTION:(Free for PEDCO PTAC clients - contact Darren Osborne for more 
 information)\n\nA capability statement is your business’ primary marketing
  tool in the federal marketplace. There are plenty of factors to consider 
 when marketing your business to prime vendors and government agencies. Be 
 sure your statement gives your potential buyers what they need to evaluate
  you as a “responsible” and qualified contractor\, setting your business a
 part from your competitors.\n\nIn this webinar\, you will learn:\n\nhow to
  format your capability statement\nwhat content to include\nwhen to use it
 \, and\nhow to create a content-repurposing process for future versions.\n
 Target Audience: Business owners seeking federal contracting and subcontra
 cting opportunities.
DTSTART;TZID=America/Chicago:20220720T120000
DTEND;TZID=America/Chicago:20220720T133000
LOCATION:https://govology.com/events/developing-a-compelling-capability-sta
 tement/
SUMMARY:Developing a Compelling Capability Statement
END:VEVENT
END:VCALENDAR
