BEGIN:VCALENDAR
VERSION:2.0
PRODID:-//pedco-ne.org//NONSGML kigkonsult.se iCalcreator 2.30.10//
CALSCALE:GREGORIAN
METHOD:PUBLISH
UID:8199f452-a3ce-44a6-b2f5-5fc0d749503e
X-WR-CALDESC:(Free for PEDCO PTAC clients - contact Darren Osborne for more
  details)\n\nThis webinar provides an overview of federal fiscal law and r
 egulations\, socio economic program\, and sole source authorities and proc
 edures. Additionally\, it provides insight into how to use these authoriti
 es to develop marketing and contracting strategies to capture the governme
 nt’s fiscal year fourth quarter and expiring funds contract opportunities.
 \n\nIn this training\, you will learn about: \n\nfiscal law and appropriat
 ions  \nfederal government funding policies\nThe life of government approp
 riations\nprogram reprogramming and transfer authorities\nthe government’s
  other than full and open competition and socio-economic program sole sour
 ce authorities \nletter contract and undefinitized contractual action (UCA
 ) regulations and authorities\nstrategies to capture fiscal year fourth qu
 arter and expiring funds contract opportunities\nTarget Audience: Novice a
 nd experienced large and small business government contractors that want t
 o learn marketing and contracting strategies to capture federal agency exp
 iring funds and sole source contracts.
X-WR-RELCALID:28d49af3879ae7a0c5c7a23b6a5354f1
X-WR-TIMEZONE:America/Chicago
BEGIN:VTIMEZONE
TZID:America/Chicago
BEGIN:STANDARD
TZNAME:CST
DTSTART:20211107T020000
TZOFFSETFROM:-0500
TZOFFSETTO:-0600
RDATE:20221106T020000
RDATE:20231105T020000
END:STANDARD
BEGIN:DAYLIGHT
TZNAME:CDT
DTSTART:20220313T020000
TZOFFSETFROM:-0600
TZOFFSETTO:-0500
RDATE:20230312T020000
END:DAYLIGHT
END:VTIMEZONE
BEGIN:VEVENT
UID:de361845-0bb9-4f20-8221-865486db3af9
DTSTAMP:20260422T155236Z
DESCRIPTION:(Free for PEDCO PTAC clients - contact Darren Osborne for more 
 details)\n\nThis webinar provides an overview of federal fiscal law and re
 gulations\, socio economic program\, and sole source authorities and proce
 dures. Additionally\, it provides insight into how to use these authoritie
 s to develop marketing and contracting strategies to capture the governmen
 t’s fiscal year fourth quarter and expiring funds contract opportunities.
 \n\nIn this training\, you will learn about: \n\nfiscal law and appropriat
 ions  \nfederal government funding policies\nThe life of government approp
 riations\nprogram reprogramming and transfer authorities\nthe government’s
  other than full and open competition and socio-economic program sole sour
 ce authorities \nletter contract and undefinitized contractual action (UCA
 ) regulations and authorities\nstrategies to capture fiscal year fourth qu
 arter and expiring funds contract opportunities\nTarget Audience: Novice a
 nd experienced large and small business government contractors that want t
 o learn marketing and contracting strategies to capture federal agency exp
 iring funds and sole source contracts.
DTSTART;TZID=America/Chicago:20220727T120000
DTEND;TZID=America/Chicago:20220727T133000
LOCATION:https://govology.com/events/strategies-to-capture-expiring-funds-a
 nd-sole-source-contracts/
SUMMARY:Strategies to Capture Expiring Funds and Sole Source Contracts
END:VEVENT
END:VCALENDAR
