BEGIN:VCALENDAR
VERSION:2.0
PRODID:-//pedco-ne.org//NONSGML kigkonsult.se iCalcreator 2.30.10//
CALSCALE:GREGORIAN
METHOD:PUBLISH
UID:585b0fd5-cb1b-4793-ae71-1300509ea99a
X-WR-CALDESC:Free for PEDCO PTAC clients - Contact Darren Osborne (Program 
 Manager) for details\n\nIn the world of government contracting\, getting t
 he contract award is only the beginning. Performance raises a new host of 
 challenges\, all governed by a complex web of rules and regulations. To th
 rive in this industry\, contractors must familiarize themselves with these
  regulations\; they must learn how to resolve performance disputes and suc
 cessfully seek compensation for unanticipated costs and delays.\n\nIn this
  webinar\, experienced government contract attorney Maria Panichelli will 
 provide a roadmap to deal with these issues. Maria will discuss REAs\, Cla
 ims\, the differences between them\, and when it is appropriate to use eac
 h. Attendees will learn about some of the most common bases for claims\, a
 s well as some common government defenses.  In addition\, Maria will discu
 ss subcontractor pass-through claims\, and the CDA claims appeal litigatio
 n process before COFC and the Boards of Contract Appeal.\n\nTarget Audienc
 e: Government contractors of any level\; any government contractor anticip
 ating possible REAs or Claims arising out of performance\; any government 
 contractor who has incurred unanticipated costs or delays
X-WR-RELCALID:5aeb19e16d0bedba29035c8d1cbd9d9c
X-WR-TIMEZONE:America/Chicago
BEGIN:VTIMEZONE
TZID:America/Chicago
BEGIN:STANDARD
TZNAME:CST
DTSTART:20211107T020000
TZOFFSETFROM:-0500
TZOFFSETTO:-0600
RDATE:20221106T020000
RDATE:20231105T020000
END:STANDARD
BEGIN:DAYLIGHT
TZNAME:CDT
DTSTART:20220313T020000
TZOFFSETFROM:-0600
TZOFFSETTO:-0500
RDATE:20230312T020000
END:DAYLIGHT
END:VTIMEZONE
BEGIN:VEVENT
UID:0011b28e-4939-45a1-b26c-4d5c17f2356c
DTSTAMP:20260422T143309Z
DESCRIPTION:Free for PEDCO PTAC clients - Contact Darren Osborne (Program M
 anager) for details\n\nIn the world of government contracting\, getting th
 e contract award is only the beginning. Performance raises a new host of c
 hallenges\, all governed by a complex web of rules and regulations. To thr
 ive in this industry\, contractors must familiarize themselves with these 
 regulations\; they must learn how to resolve performance disputes and succ
 essfully seek compensation for unanticipated costs and delays.\n\nIn this 
 webinar\, experienced government contract attorney Maria Panichelli will p
 rovide a roadmap to deal with these issues. Maria will discuss REAs\, Clai
 ms\, the differences between them\, and when it is appropriate to use each
 . Attendees will learn about some of the most common bases for claims\, as
  well as some common government defenses.  In addition\, Maria will discus
 s subcontractor pass-through claims\, and the CDA claims appeal litigation
  process before COFC and the Boards of Contract Appeal.\n\nTarget Audience
 : Government contractors of any level\; any government contractor anticipa
 ting possible REAs or Claims arising out of performance\; any government c
 ontractor who has incurred unanticipated costs or delays
DTSTART;TZID=America/Chicago:20220804T120000
DTEND;TZID=America/Chicago:20220804T133000
LOCATION:https://govology.com/events/how-to-effectively-utilize-reas-and-cl
 aims-on-federal-contracts/
SUMMARY:How to Effectively Utilize REAs and Claims on Federal Contracts
END:VEVENT
END:VCALENDAR
