BEGIN:VCALENDAR
VERSION:2.0
PRODID:-//pedco-ne.org//NONSGML kigkonsult.se iCalcreator 2.30.10//
CALSCALE:GREGORIAN
METHOD:PUBLISH
UID:3ae1c181-80f5-41bf-8d47-e91702049e28
X-WR-CALDESC:Free for PEDCO PTAC clients - contact Darren Osborne (Program 
 Manager) for more details\n\nThis webinar provides insight into the Small 
 Business Innovation Research (SBIR) Program regulations\, common SBIR myth
 s\, and how to develop effective strategies to protect and optimize an SBI
 R participant’s rights\, values and wealth under the SBIR program.\n\nThe 
 SBIR program was established under the Small Business Innovation Developme
 nt Act of 1982 (P.L. 97-219) with the purpose of strengthening the role of
  innovative small business concerns in federally funded research and devel
 opment (R&D). Despite being touted as one of SBA’s most successful small b
 usiness programs\, the SBIR program’s unique rules\, regulations\, and dat
 a rights provisions are not well understood by small businesses and some p
 articipating federal agencies. Forty years after its inception\, “… this s
 mall business set-aside program (still) struggles against ignorance\, indi
 fference\, and outright opposition” (David Metzger).\n\nYou will learn how
  SBA’s SBIR policies differ from other government contracting regulations 
 and\, more importantly\, how to address the government’s misinterpretation
 s and reluctance to take advantage of SBIR program authorities.\n\nTarget 
 Audience: Small businesses that want to work with the federal government
X-WR-RELCALID:f36f67d1c276421dde5bfd3f234c5e02
X-WR-TIMEZONE:America/Chicago
BEGIN:VTIMEZONE
TZID:America/Chicago
BEGIN:STANDARD
TZNAME:CST
DTSTART:20211107T020000
TZOFFSETFROM:-0500
TZOFFSETTO:-0600
RDATE:20221106T020000
RDATE:20231105T020000
END:STANDARD
BEGIN:DAYLIGHT
TZNAME:CDT
DTSTART:20220313T020000
TZOFFSETFROM:-0600
TZOFFSETTO:-0500
RDATE:20230312T020000
END:DAYLIGHT
END:VTIMEZONE
BEGIN:VEVENT
UID:993c089c-ed47-4a7e-acb3-6d0482e7c943
DTSTAMP:20260422T143558Z
DESCRIPTION:Free for PEDCO PTAC clients - contact Darren Osborne (Program M
 anager) for more details\n\nThis webinar provides insight into the Small B
 usiness Innovation Research (SBIR) Program regulations\, common SBIR myths
 \, and how to develop effective strategies to protect and optimize an SBIR
  participant’s rights\, values and wealth under the SBIR program.\n\nThe S
 BIR program was established under the Small Business Innovation Developmen
 t Act of 1982 (P.L. 97-219) with the purpose of strengthening the role of 
 innovative small business concerns in federally funded research and develo
 pment (R&D). Despite being touted as one of SBA’s most successful small bu
 siness programs\, the SBIR program’s unique rules\, regulations\, and data
  rights provisions are not well understood by small businesses and some pa
 rticipating federal agencies. Forty years after its inception\, “… this sm
 all business set-aside program (still) struggles against ignorance\, indif
 ference\, and outright opposition” (David Metzger).\n\nYou will learn how 
 SBA’s SBIR policies differ from other government contracting regulations a
 nd\, more importantly\, how to address the government’s misinterpretations
  and reluctance to take advantage of SBIR program authorities.\n\nTarget A
 udience: Small businesses that want to work with the federal government
DTSTART;TZID=America/Chicago:20220809T120000
DTEND;TZID=America/Chicago:20220809T133000
LOCATION:https://govology.com/events/debunking-sbir-myths-strategies-to-pro
 tect-and-optimize-the-value-of-sbir-program-authorities/
SUMMARY:Debunking SBIR Myths: Strategies to Protect and Optimize the Value 
 of SBIR Program Authorities
END:VEVENT
END:VCALENDAR
