BEGIN:VCALENDAR
VERSION:2.0
PRODID:-//pedco-ne.org//NONSGML kigkonsult.se iCalcreator 2.30.10//
CALSCALE:GREGORIAN
METHOD:PUBLISH
UID:fc9e4f3e-7284-44c1-87a5-0c49f50e4ae0
X-WR-CALDESC:Free for PEDCO PTAC clients - contact Darren Osborne (Program 
 Manager) for more details\n\nThe Service Contract Labor Standards (SCLS) a
 nd the regulations implementing SCLS are some of the most challenging requ
 irements for contractors and for contracting agencies involved in federal 
 contracts for services. If you are competing for the award of a service co
 ntract or performing a service contract and administering your responsibil
 ities under the SCLS\, this presentation will assist you in understanding 
 your SCA obligations and compliance requirements. \n\nThis webinar will co
 ver the following topics:\n\nDetermining SCLS applicability (and differenc
 e between SCLS and Davis Bacon Act)\nAppropriately classifying service emp
 loyees per the Directory of Occupations\nExplanation of wage determination
 s\nCalculating health and welfare – fixed vs average calculation method\nD
 efining bona fide fringe benefits \nAdministering vacation\, sick leave an
 d holidays\nImpact of a Collective Bargaining Agreement \nResponsibilities
  of successor contractors\nPrime/sub relationship and responsibilities\nRe
 cordkeeping requirements\nAudit and consequences of SCLS violations\nTarge
 t Audience: Business professionals in human resources\, contracting\, prop
 osal development\, accounting\, and payroll\n\n
X-WR-RELCALID:95ccad7bf3ae5855ad78e83c27c2dffa
X-WR-TIMEZONE:America/Chicago
BEGIN:VTIMEZONE
TZID:America/Chicago
BEGIN:STANDARD
TZNAME:CST
DTSTART:20211107T020000
TZOFFSETFROM:-0500
TZOFFSETTO:-0600
RDATE:20221106T020000
RDATE:20231105T020000
END:STANDARD
BEGIN:DAYLIGHT
TZNAME:CDT
DTSTART:20220313T020000
TZOFFSETFROM:-0600
TZOFFSETTO:-0500
RDATE:20230312T020000
END:DAYLIGHT
END:VTIMEZONE
BEGIN:VEVENT
UID:a8bc2907-ab7a-46b5-8f04-db7e18a939ca
DTSTAMP:20260422T143056Z
DESCRIPTION:Free for PEDCO PTAC clients - contact Darren Osborne (Program M
 anager) for more details\n\nThe Service Contract Labor Standards (SCLS) an
 d the regulations implementing SCLS are some of the most challenging requi
 rements for contractors and for contracting agencies involved in federal c
 ontracts for services. If you are competing for the award of a service con
 tract or performing a service contract and administering your responsibili
 ties under the SCLS\, this presentation will assist you in understanding y
 our SCA obligations and compliance requirements. \n\nThis webinar will cov
 er the following topics:\n\nDetermining SCLS applicability (and difference
  between SCLS and Davis Bacon Act)\nAppropriately classifying service empl
 oyees per the Directory of Occupations\nExplanation of wage determinations
 \nCalculating health and welfare – fixed vs average calculation method\nDe
 fining bona fide fringe benefits \nAdministering vacation\, sick leave and
  holidays\nImpact of a Collective Bargaining Agreement \nResponsibilities 
 of successor contractors\nPrime/sub relationship and responsibilities\nRec
 ordkeeping requirements\nAudit and consequences of SCLS violations\nTarget
  Audience: Business professionals in human resources\, contracting\, propo
 sal development\, accounting\, and payroll\n\n
DTSTART;TZID=America/Chicago:20220811T120000
DTEND;TZID=America/Chicago:20220811T133000
LOCATION:https://govology.com/events/understanding-the-service-contract-lab
 or-standards/
SUMMARY:Understanding the Service Contract Labor Standards
END:VEVENT
END:VCALENDAR
