BEGIN:VCALENDAR
VERSION:2.0
PRODID:-//pedco-ne.org//NONSGML kigkonsult.se iCalcreator 2.30.10//
CALSCALE:GREGORIAN
METHOD:PUBLISH
UID:1bf0f754-d1f3-4de5-b46d-6a5c1671f212
X-WR-CALDESC:Free for PEDCO PTAC clients - contact Darren Osborne (Program 
 Manager) for more information\n\nAre you a Minority Business Enterprise (M
 BE) or a Women’s Business Enterprise (WBE)? If so\, then you may be intere
 sted in the new $1.2 Trillion Infrastructure Act. This act funds state pro
 jects and imposes on some a 10% goal for Disadvantaged Business Enterprise
 s (DBEs). Most state Minority Business Enterprise (MBE) and Women Business
  Enterprise (WBE) program requirements overlap with DBE. So as the infrast
 ructure funding is doled out\, opportunities should abound for qualified e
 ntities as primes and subcontractors since most large primes will be requi
 red to certify that they have included such businesses in their plans.\n\n
 In this webinar\, government contracts attorney Matthew Moriarty will disc
 uss why these certifications are important and how you can leverage them t
 o take advantage of the Infrastructure Act opportunities.\n\nDon’t miss ou
 t on this incredible opportunity! Certify your business now and take advan
 tage of all the benefits that come with being a DBE-certified business. Yo
 u won’t regret it!\n\nTarget Audience: Small businesses interested in dive
 rsifying through government market opportunities and those that want more 
 information on Disadvantaged Business Enterprises (DBEs)\, Minority Busine
 ss Enterprise (MBE) and Women Business Enterprise (WBE).
X-WR-RELCALID:9e609ef7aa409814109511156333ab2b
X-WR-TIMEZONE:America/Chicago
BEGIN:VTIMEZONE
TZID:America/Chicago
BEGIN:STANDARD
TZNAME:CST
DTSTART:20211107T020000
TZOFFSETFROM:-0500
TZOFFSETTO:-0600
RDATE:20221106T020000
RDATE:20231105T020000
END:STANDARD
BEGIN:DAYLIGHT
TZNAME:CDT
DTSTART:20220313T020000
TZOFFSETFROM:-0600
TZOFFSETTO:-0500
RDATE:20230312T020000
END:DAYLIGHT
END:VTIMEZONE
BEGIN:VEVENT
UID:f69504e8-96eb-4cc2-8aa4-41f98220bf0e
DTSTAMP:20260422T143111Z
DESCRIPTION:Free for PEDCO PTAC clients - contact Darren Osborne (Program M
 anager) for more information\n\nAre you a Minority Business Enterprise (MB
 E) or a Women’s Business Enterprise (WBE)? If so\, then you may be interes
 ted in the new $1.2 Trillion Infrastructure Act. This act funds state proj
 ects and imposes on some a 10% goal for Disadvantaged Business Enterprises
  (DBEs). Most state Minority Business Enterprise (MBE) and Women Business 
 Enterprise (WBE) program requirements overlap with DBE. So as the infrastr
 ucture funding is doled out\, opportunities should abound for qualified en
 tities as primes and subcontractors since most large primes will be requir
 ed to certify that they have included such businesses in their plans.\n\nI
 n this webinar\, government contracts attorney Matthew Moriarty will discu
 ss why these certifications are important and how you can leverage them to
  take advantage of the Infrastructure Act opportunities.\n\nDon’t miss out
  on this incredible opportunity! Certify your business now and take advant
 age of all the benefits that come with being a DBE-certified business. You
  won’t regret it!\n\nTarget Audience: Small businesses interested in diver
 sifying through government market opportunities and those that want more i
 nformation on Disadvantaged Business Enterprises (DBEs)\, Minority Busines
 s Enterprise (MBE) and Women Business Enterprise (WBE).
DTSTART;TZID=America/Chicago:20220816T120000
DTEND;TZID=America/Chicago:20220816T133000
LOCATION:https://govology.com/events/how-state-certifications-like-w-mbe-ca
 n-result-in-federal-dollar/
SUMMARY:How State Certifications Like W/MBE Can Result in Federal Dollars
END:VEVENT
END:VCALENDAR
