BEGIN:VCALENDAR
VERSION:2.0
PRODID:-//pedco-ne.org//NONSGML kigkonsult.se iCalcreator 2.30.10//
CALSCALE:GREGORIAN
METHOD:PUBLISH
UID:daca0577-6f82-409b-bfb1-7ed7ff50b935
X-WR-CALDESC:Free for PEDCO PTAC clients - contact Darren Osborne (Program 
 Manager) for more information\n\nAre you a small business owner looking to
  do business with the Department of the Navy?\n\nThe Department of the Nav
 y (DON) is one of the largest consumers of goods and services in the world
 . By doing business with them\, you can gain access to their massive buyin
 g power and help support our economy. They are committed to helping small 
 businesses grow and succeed. They also understand that it takes a lot of h
 ard work and dedication to run a successful company. Hence\, they want to 
 do everything they can to help you reach your goals.\n\nRegister for our u
 pcoming webinar today! You won’t regret it!\n\nParticipants will learn:\n
 \nHow to navigate the DON procurement landscape.\nGain an understanding of
  the DON’s Major Buying Commands and who’s buying what you’re selling.\nLe
 arn about the importance of small businesses to the DON’s industrial base.
 \nTarget Audience: Small businesses interested in doing business with the 
 Department of the Navy
X-WR-RELCALID:5336af9739f239c8016fc8c07f299d49
X-WR-TIMEZONE:America/Chicago
BEGIN:VTIMEZONE
TZID:America/Chicago
BEGIN:STANDARD
TZNAME:CST
DTSTART:20211107T020000
TZOFFSETFROM:-0500
TZOFFSETTO:-0600
RDATE:20221106T020000
RDATE:20231105T020000
END:STANDARD
BEGIN:DAYLIGHT
TZNAME:CDT
DTSTART:20220313T020000
TZOFFSETFROM:-0600
TZOFFSETTO:-0500
RDATE:20230312T020000
END:DAYLIGHT
END:VTIMEZONE
BEGIN:VEVENT
UID:f00643c1-de23-4894-ac7c-84f1275c83c0
DTSTAMP:20260422T143821Z
DESCRIPTION:Free for PEDCO PTAC clients - contact Darren Osborne (Program M
 anager) for more information\n\nAre you a small business owner looking to 
 do business with the Department of the Navy?\n\nThe Department of the Navy
  (DON) is one of the largest consumers of goods and services in the world.
  By doing business with them\, you can gain access to their massive buying
  power and help support our economy. They are committed to helping small b
 usinesses grow and succeed. They also understand that it takes a lot of ha
 rd work and dedication to run a successful company. Hence\, they want to d
 o everything they can to help you reach your goals.\n\nRegister for our up
 coming webinar today! You won’t regret it!\n\nParticipants will learn:\n\n
 How to navigate the DON procurement landscape.\nGain an understanding of t
 he DON’s Major Buying Commands and who’s buying what you’re selling.\nLear
 n about the importance of small businesses to the DON’s industrial base.\n
 Target Audience: Small businesses interested in doing business with the De
 partment of the Navy
DTSTART;TZID=America/Chicago:20220817T120000
DTEND;TZID=America/Chicago:20220817T133000
LOCATION:https://govology.com/events/procurement-readiness-and-doing-busine
 ss-with-the-department-of-the-navy/
SUMMARY:Procurement Readiness and Doing Business with the Department of the
  Navy
END:VEVENT
END:VCALENDAR
