BEGIN:VCALENDAR
VERSION:2.0
PRODID:-//pedco-ne.org//NONSGML kigkonsult.se iCalcreator 2.30.10//
CALSCALE:GREGORIAN
METHOD:PUBLISH
UID:3d1d4c38-ada6-44a2-9972-e7b459c8c206
X-WR-CALDESC:Free for PEDCO PTAC clients - Contact Darren Osborne (Program 
 Manager) for more information\n\nTouted as a “game-changer” when it was fi
 rst introduced in 2016\, the U.S. Small Business Administration’s All Smal
 l Mentor-Protégé Program isn’t new anymore. Known now as simply “SBA Mento
 r-Protégé Program (MPP)\,” it is still extremely powerful for large and sm
 all contractors alike.\n\nIn this webinar\, government contracts attorneys
  from Koprince McCall Pottroff LLC explain the ins-and-outs of the recentl
 y consolidated MPP\, covering the program’s eligibility requirements\, its
  potent benefits (including the ability to form special mentor-protege joi
 nt ventures)\, the application process\, and common misconceptions and pit
 falls.\n\nTarget Audience: Small and large businesses interested in the Me
 ntor-Protege Program
X-WR-RELCALID:11f0488fffa2d33615fd6be2786d2db5
X-WR-TIMEZONE:America/Chicago
BEGIN:VTIMEZONE
TZID:America/Chicago
BEGIN:STANDARD
TZNAME:CST
DTSTART:20211107T020000
TZOFFSETFROM:-0500
TZOFFSETTO:-0600
RDATE:20221106T020000
RDATE:20231105T020000
END:STANDARD
BEGIN:DAYLIGHT
TZNAME:CDT
DTSTART:20220313T020000
TZOFFSETFROM:-0600
TZOFFSETTO:-0500
RDATE:20230312T020000
END:DAYLIGHT
END:VTIMEZONE
BEGIN:VEVENT
UID:e59a0ec7-7e3c-4bd8-890c-a42ef1849f6e
DTSTAMP:20260422T143223Z
DESCRIPTION:Free for PEDCO PTAC clients - Contact Darren Osborne (Program M
 anager) for more information\n\nTouted as a “game-changer” when it was fir
 st introduced in 2016\, the U.S. Small Business Administration’s All Small
  Mentor-Protégé Program isn’t new anymore. Known now as simply “SBA Mentor
 -Protégé Program (MPP)\,” it is still extremely powerful for large and sma
 ll contractors alike.\n\nIn this webinar\, government contracts attorneys 
 from Koprince McCall Pottroff LLC explain the ins-and-outs of the recently
  consolidated MPP\, covering the program’s eligibility requirements\, its 
 potent benefits (including the ability to form special mentor-protege join
 t ventures)\, the application process\, and common misconceptions and pitf
 alls.\n\nTarget Audience: Small and large businesses interested in the Men
 tor-Protege Program
DTSTART;TZID=America/Chicago:20220830T123000
DTEND;TZID=America/Chicago:20220830T133000
LOCATION:https://govology.com/events/still-a-game-changer-the-sbas-all-smal
 l-mentor-protege-program-2021-update/
SUMMARY:Still a Game Changer: The SBA Mentor-Protégé Program (2022 Update)
END:VEVENT
END:VCALENDAR
