BEGIN:VCALENDAR
VERSION:2.0
PRODID:-//pedco-ne.org//NONSGML kigkonsult.se iCalcreator 2.30.10//
CALSCALE:GREGORIAN
METHOD:PUBLISH
UID:e791df83-7252-45c5-a253-4d5234ab08b7
X-WR-CALDESC:Free registration for PEDCO PTAC clients. Contact Darren Osbor
 ne (Program Manager) for more information.\n\nIn order to grow and succeed
  in the federal marketplace\, it is essential to have accurate records of 
 your company’s financial activity. In Parts 1* and 2**\, Teresa Moon of Pa
 rabilis talked about the inflow and outflow of cash tracking via Accounts 
 Receivable (AR) and Accounts Payable (AP) aging reports. In this webinar (
 Part 3 of the series)\, you will learn how to utilize AR/AP aging reports 
 to track your cash flow for six weeks. You will also hear from a GovCon CF
 O\, Denyse Cognetta\, who will share insights on why accurate recordkeepin
 g is key to success in this industry. In the end\, you’ll leave with the t
 ools you need to accurately assess your company’s financial needs and acce
 ss the best option for your cash flow needs.\n\n* Efficient Cash Flow Trac
 king and Planning for Your Government Contracts – Part I\n\n** Efficient C
 ash Flow Tracking and Planning for Your Government Contracts – Part II\n\n
 Target Audience: Small Business Owners interested in Federal Government Co
 ntracting
X-WR-RELCALID:726f3300d298a3aa4619a27153249b34
X-WR-TIMEZONE:America/Chicago
BEGIN:VTIMEZONE
TZID:America/Chicago
BEGIN:STANDARD
TZNAME:CST
DTSTART:20211107T020000
TZOFFSETFROM:-0500
TZOFFSETTO:-0600
RDATE:20221106T020000
RDATE:20231105T020000
END:STANDARD
BEGIN:DAYLIGHT
TZNAME:CDT
DTSTART:20220313T020000
TZOFFSETFROM:-0600
TZOFFSETTO:-0500
RDATE:20230312T020000
END:DAYLIGHT
END:VTIMEZONE
BEGIN:VEVENT
UID:78e05f9d-2da1-4544-8c2b-ca67ca677cf8
DTSTAMP:20260422T131910Z
DESCRIPTION:Free registration for PEDCO PTAC clients. Contact Darren Osborn
 e (Program Manager) for more information.\n\nIn order to grow and succeed 
 in the federal marketplace\, it is essential to have accurate records of y
 our company’s financial activity. In Parts 1* and 2**\, Teresa Moon of Par
 abilis talked about the inflow and outflow of cash tracking via Accounts R
 eceivable (AR) and Accounts Payable (AP) aging reports. In this webinar (P
 art 3 of the series)\, you will learn how to utilize AR/AP aging reports t
 o track your cash flow for six weeks. You will also hear from a GovCon CFO
 \, Denyse Cognetta\, who will share insights on why accurate recordkeeping
  is key to success in this industry. In the end\, you’ll leave with the to
 ols you need to accurately assess your company’s financial needs and acces
 s the best option for your cash flow needs.\n\n* Efficient Cash Flow Track
 ing and Planning for Your Government Contracts – Part I\n\n** Efficient Ca
 sh Flow Tracking and Planning for Your Government Contracts – Part II\n\nT
 arget Audience: Small Business Owners interested in Federal Government Con
 tracting
DTSTART;TZID=America/Chicago:20220901T120000
DTEND;TZID=America/Chicago:20220901T133000
LOCATION:https://govology.com/product/efficient-cashflow-tracking-and-plann
 ing-for-your-government-contracts-part-iii/
SUMMARY:Efficient Cash Flow Tracking and Planning for Your Government Contr
 acts – Part III
END:VEVENT
END:VCALENDAR
