BEGIN:VCALENDAR
VERSION:2.0
PRODID:-//pedco-ne.org//NONSGML kigkonsult.se iCalcreator 2.30.10//
CALSCALE:GREGORIAN
METHOD:PUBLISH
UID:5ba794a3-425a-4c60-844b-dd3eed60f5f5
X-WR-CALDESC:Free registration for PEDCO PTAC clients. Contact Darren Osbor
 ne (Program Manager) for more information.\n\nIn this three-day series\, J
 enny Clark (Solvability) will discuss the requirements for a DCAA-complian
 t accounting system\, starting with the form SF1408 Pre-Award Survey. You 
 will learn what it takes to become DCAA-compliant and how to pass a DCAA P
 re-Award Survey SF-1408.\n\nSpecifically\, Part 1 will cover:\n\nThe eleme
 nts of a DCAA-compliant timesheet and labor distribution system.\nCost acc
 ounting requirements based on accrual methods.\nDirect\, indirect\, and un
 allowable costs.\nContract types and billing requirements.\nIn Part 2\, we
  will focus on your direct and indirect costs and what goes into Fringe\, 
 Overhead\, and G&A expenses. You will also learn how your indirect rates u
 sed for bidding are calculated based on your actual income statement.\n\nS
 pecifically\, Part 2 will cover:\n\nHow your costs affect your pricing.\nP
 ricing strategies to scale your business and compete at a higher level.\nM
 ulitplier and wrap rate strategies based on your company performance and f
 orecast.\nIn Part 3\, you will learn how to set up these elements in the Q
 uickBooks Pro desktop (QuickBooks ONLINE is NOT an acceptable alternative.
 )\n\nYou will learn about all the hidden settings and specific practices t
 o make QuickBooks Pro desktop work for you as a federal contractor. We’ll 
 show you how to structure your Chart of Accounts for direct costs\, Fringe
 \, Overhead\, G&A\, and unallowable expenses. We’ll also show you how to s
 et up your customers\, including job settings to report by contract and be
 st practices for processing employee and vendor transactions so that you c
 an easily create billings and calculate indirect rates from your Profit an
 d Loss.\n\nSpecifically\, Part 3 will cover the following: \n\nSettings yo
 u need in QuickBooks Pro to pass a DCAA PreAward Survey SF1408.\nBest prac
 tices for integrating timesheets\, payroll\, and billing.\nTracking and fo
 recasting your indirect rates for Fringe\, Overhead\, and G&A expenses usi
 ng your correctly structured QuickBooks Pro Profit and Loss.\nTarget Audie
 nce: Small business owners in federal contracting focused on providing sta
 ffing services billed by labor categories and hours reporting. Accounting 
 personnel responsible for processing timesheets\, payroll\, accounts payab
 le\, and producing billing and reporting for federal contractors.\n\n*This
  webinar is part of a series on DCAA-compliant Quickbooks.
X-WR-RELCALID:7753e97e7078a326d4cbe36fd39bc625
X-WR-TIMEZONE:America/Chicago
BEGIN:VTIMEZONE
TZID:America/Chicago
BEGIN:STANDARD
TZNAME:CST
DTSTART:20211107T020000
TZOFFSETFROM:-0500
TZOFFSETTO:-0600
RDATE:20221106T020000
RDATE:20231105T020000
END:STANDARD
BEGIN:DAYLIGHT
TZNAME:CDT
DTSTART:20220313T020000
TZOFFSETFROM:-0600
TZOFFSETTO:-0500
RDATE:20230312T020000
END:DAYLIGHT
END:VTIMEZONE
BEGIN:VEVENT
UID:31795393-efa9-42a0-a6fe-408d97c506d2
DTSTAMP:20260422T143558Z
DESCRIPTION:Free registration for PEDCO PTAC clients. Contact Darren Osborn
 e (Program Manager) for more information.\n\nIn this three-day series\, Je
 nny Clark (Solvability) will discuss the requirements for a DCAA-compliant
  accounting system\, starting with the form SF1408 Pre-Award Survey. You w
 ill learn what it takes to become DCAA-compliant and how to pass a DCAA Pr
 e-Award Survey SF-1408.\n\nSpecifically\, Part 1 will cover:\n\nThe elemen
 ts of a DCAA-compliant timesheet and labor distribution system.\nCost acco
 unting requirements based on accrual methods.\nDirect\, indirect\, and una
 llowable costs.\nContract types and billing requirements.\nIn Part 2\, we 
 will focus on your direct and indirect costs and what goes into Fringe\, O
 verhead\, and G&A expenses. You will also learn how your indirect rates us
 ed for bidding are calculated based on your actual income statement.\n\nSp
 ecifically\, Part 2 will cover:\n\nHow your costs affect your pricing.\nPr
 icing strategies to scale your business and compete at a higher level.\nMu
 litplier and wrap rate strategies based on your company performance and fo
 recast.\nIn Part 3\, you will learn how to set up these elements in the Qu
 ickBooks Pro desktop (QuickBooks ONLINE is NOT an acceptable alternative.)
 \n\nYou will learn about all the hidden settings and specific practices to
  make QuickBooks Pro desktop work for you as a federal contractor. We’ll s
 how you how to structure your Chart of Accounts for direct costs\, Fringe\
 , Overhead\, G&A\, and unallowable expenses. We’ll also show you how to se
 t up your customers\, including job settings to report by contract and bes
 t practices for processing employee and vendor transactions so that you ca
 n easily create billings and calculate indirect rates from your Profit and
  Loss.\n\nSpecifically\, Part 3 will cover the following: \n\nSettings you
  need in QuickBooks Pro to pass a DCAA PreAward Survey SF1408.\nBest pract
 ices for integrating timesheets\, payroll\, and billing.\nTracking and for
 ecasting your indirect rates for Fringe\, Overhead\, and G&A expenses usin
 g your correctly structured QuickBooks Pro Profit and Loss.\nTarget Audien
 ce: Small business owners in federal contracting focused on providing staf
 fing services billed by labor categories and hours reporting. Accounting p
 ersonnel responsible for processing timesheets\, payroll\, accounts payabl
 e\, and producing billing and reporting for federal contractors.\n\n*This 
 webinar is part of a series on DCAA-compliant Quickbooks.
DTSTART;TZID=America/Chicago:20220906T120000
DTEND;TZID=America/Chicago:20220908T133000
LOCATION:https://govology.com/product/setting-up-your-quickbooks-pro-for-dc
 aa-compliance-3-part-series/
SUMMARY:Setting up Your QuickBooks Pro for DCAA Compliance (3-Part Series)
END:VEVENT
END:VCALENDAR
