BEGIN:VCALENDAR
VERSION:2.0
PRODID:-//pedco-ne.org//NONSGML kigkonsult.se iCalcreator 2.30.10//
CALSCALE:GREGORIAN
METHOD:PUBLISH
UID:9dea5140-bcc7-4372-b0e1-bddfffb7d23a
X-WR-CALDESC:Free registration for PEDCO PTAC clients. Contact Darren Osbor
 ne (Program Manager) for more information.\n\nThis presentation provides i
 nsight into DoD’s profit policies and how businesses can justify and negot
 iate a higher profit or fee on DoD contracts and contract modifications th
 at require the submission of certified cost or pricing data under Federal 
 Acquisition Regulation (FAR) 15.403.\n\nDefense Federal Acquisition Regula
 tion Supplement (DFARS) 215.404-4(b)(1) requires DoD contracting officers 
 to use a structured approach for developing a prenegotiation profit or fee
  objective on any negotiated contract action when certified cost or pricin
 g data is obtained\, except for cost-plus-award-fee (CPAF) contracts and c
 ontracts with Federally Funded Research and Development Centers (FFRDCs).
 \n\nThe structured approach most commonly used by DoD contracting officers
  is called the “Weighted Guidelines” method. Under the weighted guidelines
  method\, contracting officers are required to factor in performance risk\
 , contract type risk\, working capital\, facilities capital employed (if p
 roposed)\, and cost efficiency when developing their prenegotiation profit
 /fee objectives.\n\nSome businesses are unaware that the Government’s pren
 egotiation profit objectives\, developed via the formulaic weighted guidel
 ines method\, can vary widely based upon the underlying assumptions and va
 lues used. Furthermore\, some businesses do not realize they can negotiate
  a higher profit or fee. As a result\, these businesses unknowingly accept
  the Government’s proposed profit rate on contracts that might have higher
  than normal performance risk and warrant a higher profit.\n\nIn this pres
 entation\, you will learn how to develop effective strategies that can be 
 used to negotiate higher profit or fee positions that are fully justified 
 under DoD’s weighted guidelines (profit) method application.\n\nTarget Aud
 ience: Novice and experienced small business government contractors
X-WR-RELCALID:d249f7643049d643fe62e55fd5c1bdae
X-WR-TIMEZONE:America/Chicago
BEGIN:VTIMEZONE
TZID:America/Chicago
BEGIN:STANDARD
TZNAME:CST
DTSTART:20211107T020000
TZOFFSETFROM:-0500
TZOFFSETTO:-0600
RDATE:20221106T020000
RDATE:20231105T020000
END:STANDARD
BEGIN:DAYLIGHT
TZNAME:CDT
DTSTART:20220313T020000
TZOFFSETFROM:-0600
TZOFFSETTO:-0500
RDATE:20230312T020000
RDATE:20240310T020000
END:DAYLIGHT
END:VTIMEZONE
BEGIN:VEVENT
UID:92efa7fc-5756-4bf1-8311-1f7bc3694fd0
DTSTAMP:20260422T132250Z
DESCRIPTION:Free registration for PEDCO PTAC clients. Contact Darren Osborn
 e (Program Manager) for more information.\n\nThis presentation provides in
 sight into DoD’s profit policies and how businesses can justify and negoti
 ate a higher profit or fee on DoD contracts and contract modifications tha
 t require the submission of certified cost or pricing data under Federal A
 cquisition Regulation (FAR) 15.403.\n\nDefense Federal Acquisition Regulat
 ion Supplement (DFARS) 215.404-4(b)(1) requires DoD contracting officers t
 o use a structured approach for developing a prenegotiation profit or fee 
 objective on any negotiated contract action when certified cost or pricing
  data is obtained\, except for cost-plus-award-fee (CPAF) contracts and co
 ntracts with Federally Funded Research and Development Centers (FFRDCs).\n
 \nThe structured approach most commonly used by DoD contracting officers i
 s called the “Weighted Guidelines” method. Under the weighted guidelines m
 ethod\, contracting officers are required to factor in performance risk\, 
 contract type risk\, working capital\, facilities capital employed (if pro
 posed)\, and cost efficiency when developing their prenegotiation profit/f
 ee objectives.\n\nSome businesses are unaware that the Government’s preneg
 otiation profit objectives\, developed via the formulaic weighted guidelin
 es method\, can vary widely based upon the underlying assumptions and valu
 es used. Furthermore\, some businesses do not realize they can negotiate a
  higher profit or fee. As a result\, these businesses unknowingly accept t
 he Government’s proposed profit rate on contracts that might have higher t
 han normal performance risk and warrant a higher profit.\n\nIn this presen
 tation\, you will learn how to develop effective strategies that can be us
 ed to negotiate higher profit or fee positions that are fully justified un
 der DoD’s weighted guidelines (profit) method application.\n\nTarget Audie
 nce: Novice and experienced small business government contractors
DTSTART;TZID=America/Chicago:20220913T120000
DTEND;TZID=America/Chicago:20220913T133000
LOCATION:https://govology.com/product/justify-increased-profitfee-dod-contr
 acts-requiring-certified-cost-price-data/
SUMMARY:How to Justify Increased Profit/Fee Under DoD Contracts Requiring C
 ertified Cost or Pricing Data
END:VEVENT
END:VCALENDAR
