BEGIN:VCALENDAR
VERSION:2.0
PRODID:-//pedco-ne.org//NONSGML kigkonsult.se iCalcreator 2.30.10//
CALSCALE:GREGORIAN
METHOD:PUBLISH
UID:520f4c74-c747-410b-8e11-95f87a4fd7ed
X-WR-CALDESC:Free registration for PEDCO PTAC clients. Contact Darren Osbor
 ne (Program Manager) for more information.\n\nGovernment contracting law i
 s complex\, and the rules aren’t always intuitive. As a result\, many cont
 ractors make the same legal mistakes\, involving everything from completin
 g SAM profiles to calculating small business size to communicating with go
 vernment contracting officers.\n\nIn this webinar\, Shane McCall and Nicol
 e Pottroff will unveil the top 21 most common legal mistakes they see cont
 ractors make time and time again. You will learn what these common mistake
 s are and how to avoid them.\n\nTarget Audience: new and experienced gover
 nment contractors
X-WR-RELCALID:6352cc8336d8aa0aed90da6c35f8f9cc
X-WR-TIMEZONE:America/Chicago
BEGIN:VTIMEZONE
TZID:America/Chicago
BEGIN:STANDARD
TZNAME:CST
DTSTART:20211107T020000
TZOFFSETFROM:-0500
TZOFFSETTO:-0600
RDATE:20221106T020000
RDATE:20231105T020000
END:STANDARD
BEGIN:DAYLIGHT
TZNAME:CDT
DTSTART:20220313T020000
TZOFFSETFROM:-0600
TZOFFSETTO:-0500
RDATE:20230312T020000
RDATE:20240310T020000
END:DAYLIGHT
END:VTIMEZONE
BEGIN:VEVENT
UID:74a9e2e9-8eb6-4581-ae52-072d674493c7
DTSTAMP:20260422T143503Z
DESCRIPTION:Free registration for PEDCO PTAC clients. Contact Darren Osborn
 e (Program Manager) for more information.\n\nGovernment contracting law is
  complex\, and the rules aren’t always intuitive. As a result\, many contr
 actors make the same legal mistakes\, involving everything from completing
  SAM profiles to calculating small business size to communicating with gov
 ernment contracting officers.\n\nIn this webinar\, Shane McCall and Nicole
  Pottroff will unveil the top 21 most common legal mistakes they see contr
 actors make time and time again. You will learn what these common mistakes
  are and how to avoid them.\n\nTarget Audience: new and experienced govern
 ment contractors
DTSTART;TZID=America/Chicago:20220915T120000
DTEND;TZID=America/Chicago:20220915T133000
LOCATION:https://govology.com/product/top-21-legal-mistakes-in-government-c
 ontracting/
SUMMARY:Top 21 Legal Mistakes in Government Contracting
END:VEVENT
END:VCALENDAR
