BEGIN:VCALENDAR
VERSION:2.0
PRODID:-//pedco-ne.org//NONSGML kigkonsult.se iCalcreator 2.30.10//
CALSCALE:GREGORIAN
METHOD:PUBLISH
UID:3497db0e-9a23-433c-bb84-f150930b8f28
X-WR-CALDESC:(No registration fee)\n\nThis in-depth training presentation i
 s for individuals unfamiliar with the NASA SEWP V contract as well as for 
 anyone looking for a refresher.\n\nIn this webinar you will learn:\n\n– Wh
 at is NASA SEWP\n– Which Federal agencies use SEWP\n– What products and se
 rvices can be acquired through SEWP\n– Why do federal contract officers ch
 oose SEWP\n– Emerging federal acquisition trends\n– How you can leverage N
 ASA SEWP for your federal sales and marketing efforts\n\nTarget Audience: 
 Small businesses pursuing federal market opportunities
X-WR-RELCALID:513be5ba5917b13c500af29611b2fb6e
X-WR-TIMEZONE:America/Chicago
BEGIN:VTIMEZONE
TZID:America/Chicago
BEGIN:STANDARD
TZNAME:CST
DTSTART:20211107T020000
TZOFFSETFROM:-0500
TZOFFSETTO:-0600
RDATE:20221106T020000
RDATE:20231105T020000
END:STANDARD
BEGIN:DAYLIGHT
TZNAME:CDT
DTSTART:20220313T020000
TZOFFSETFROM:-0600
TZOFFSETTO:-0500
RDATE:20230312T020000
RDATE:20240310T020000
END:DAYLIGHT
END:VTIMEZONE
BEGIN:VEVENT
UID:b83c44de-d584-43ef-aaa1-2d617b5f9cd3
DTSTAMP:20260422T115544Z
DESCRIPTION:(No registration fee)\n\nThis in-depth training presentation is
  for individuals unfamiliar with the NASA SEWP V contract as well as for a
 nyone looking for a refresher.\n\nIn this webinar you will learn:\n\n– Wha
 t is NASA SEWP\n– Which Federal agencies use SEWP\n– What products and ser
 vices can be acquired through SEWP\n– Why do federal contract officers cho
 ose SEWP\n– Emerging federal acquisition trends\n– How you can leverage NA
 SA SEWP for your federal sales and marketing efforts\n\nTarget Audience: S
 mall businesses pursuing federal market opportunities
DTSTART;TZID=America/Chicago:20221011T120000
DTEND;TZID=America/Chicago:20221011T133000
LOCATION:https://govology.com/product/becoming-a-nasa-sewp-industry-provide
 r/
SUMMARY:Becoming a NASA SEWP Industry Provider
END:VEVENT
END:VCALENDAR
