BEGIN:VCALENDAR
VERSION:2.0
PRODID:-//pedco-ne.org//NONSGML kigkonsult.se iCalcreator 2.30.10//
CALSCALE:GREGORIAN
METHOD:PUBLISH
UID:c5f8b231-6508-46d3-af9f-85aa4da18fa3
X-WR-CALDESC:Indigenous Biz Con\nDate: October 10-12\nWhere: Potawatomi Hot
 el & Casino 1721 West Canal Street Milwaukee\, WI 53233\nTickets and spons
 orships: $150 to $1000 \nEvent Link: https://www.eventbrite.com/e/indigeno
 us-biz-con-tickets-392558582287\n\nAbout this event\nIndigenous Biz Con pr
 ovides an opportunity for attendees to learn\, network\, and collaborate t
 o build meaningful partnerships that result in business\, all while breaki
 ng down barriers to economic development\, building community and elevatin
 g the voices of Native entrepreneurs. The event features real business ope
 rators at the forefront\, engaging discussions\, a Natives vendors marketp
 lace and much more.\n\nThe event will kick off with an evening reception o
 n Monday\, Oct. 10\, followed by speakers and panels throughout the day on
  Tuesday\, Oct. 11. One of many event highlights will be an evening gala t
 o celebrate Indigenous Peoples' Day on Tuesday evening. The event will clo
 se midday Wednesday\, Oct. 12.\n\nA portion of the proceeds from the event
  will be donated to the American Indian Chamber of Commerce of Wisconsin. 
 We are excited to gather together to share knowledge\, culture and communi
 ty. We hope you will join us at Indigenous Biz Con!\n
X-WR-RELCALID:df8b2e5b77f7d5f92fee39bc30d09f3f
X-WR-TIMEZONE:America/Chicago
BEGIN:VTIMEZONE
TZID:America/Chicago
BEGIN:STANDARD
TZNAME:CST
DTSTART:20211107T020000
TZOFFSETFROM:-0500
TZOFFSETTO:-0600
RDATE:20221106T020000
RDATE:20231105T020000
END:STANDARD
BEGIN:DAYLIGHT
TZNAME:CDT
DTSTART:20220313T020000
TZOFFSETFROM:-0600
TZOFFSETTO:-0500
RDATE:20230312T020000
RDATE:20240310T020000
END:DAYLIGHT
END:VTIMEZONE
BEGIN:VEVENT
UID:dbee925b-5850-4f13-9334-e613c8c863b9
DTSTAMP:20260422T115456Z
DESCRIPTION:Indigenous Biz Con\nDate: October 10-12\nWhere: Potawatomi Hote
 l & Casino 1721 West Canal Street Milwaukee\, WI 53233\nTickets and sponso
 rships: $150 to $1000 \nEvent Link: https://www.eventbrite.com/e/indigenou
 s-biz-con-tickets-392558582287\n\nAbout this event\nIndigenous Biz Con pro
 vides an opportunity for attendees to learn\, network\, and collaborate to
  build meaningful partnerships that result in business\, all while breakin
 g down barriers to economic development\, building community and elevating
  the voices of Native entrepreneurs. The event features real business oper
 ators at the forefront\, engaging discussions\, a Natives vendors marketpl
 ace and much more.\n\nThe event will kick off with an evening reception on
  Monday\, Oct. 10\, followed by speakers and panels throughout the day on 
 Tuesday\, Oct. 11. One of many event highlights will be an evening gala to
  celebrate Indigenous Peoples' Day on Tuesday evening. The event will clos
 e midday Wednesday\, Oct. 12.\n\nA portion of the proceeds from the event 
 will be donated to the American Indian Chamber of Commerce of Wisconsin. W
 e are excited to gather together to share knowledge\, culture and communit
 y. We hope you will join us at Indigenous Biz Con!\n
DTSTART;TZID=America/Chicago:20221010T083000
DTEND;TZID=America/Chicago:20221012T160000
LOCATION:Live and in person event - Registration Link: https://www.eventbri
 te.com/e/indigenous-biz-con-tickets-392558582287
SUMMARY:Indigenous Biz Con
END:VEVENT
END:VCALENDAR
