BEGIN:VCALENDAR
VERSION:2.0
PRODID:-//pedco-ne.org//NONSGML kigkonsult.se iCalcreator 2.30.10//
CALSCALE:GREGORIAN
METHOD:PUBLISH
UID:4944fd48-c820-4cf3-8895-c9b741368916
X-WR-CALDESC:Department of the Interior - Bipartisan Infrastructure Law Ind
 ustry Day\n\nWhen: October 18\, 2022\nWhere: Online event\nRegistration Li
 nk: (Free Registration) https://forms.office.com/g/9NqHnJMd14\n\nAbout the
  Event: \n\nOn behalf of the U.S. Department of the Interior (DOI)\, the O
 ffice of Small and Disadvantaged Business Utilization (OSDBU) and the Offi
 ce of Grants Management\, we are inviting you to attend the U. S. Departme
 nt of the Interior Bipartisan Infrastructure Law (BIL) Virtual Industry Da
 y. The event will be held on the afternoon of Tuesday\, October 18th from 
 2:00 p.m. to 4:30 p.m. Eastern Time.\nThe BIL Industry Day will include a 
 presentation from nine DOI Bureaus and Offices who will share information 
 on Fiscal Year 2023 BIL related contracting and financial assistance oppor
 tunities\, followed by each Bureau/Office hosting a breakout room where pa
 rticipants can join\, ask questions\, and engage directly with DOI Bureaus
 /Office representatives.\n
X-WR-RELCALID:da8e12dffb4352a3622a5ec2b016cd80
X-WR-TIMEZONE:America/Chicago
BEGIN:VTIMEZONE
TZID:America/Chicago
BEGIN:STANDARD
TZNAME:CST
DTSTART:20211107T020000
TZOFFSETFROM:-0500
TZOFFSETTO:-0600
RDATE:20221106T020000
RDATE:20231105T020000
END:STANDARD
BEGIN:DAYLIGHT
TZNAME:CDT
DTSTART:20220313T020000
TZOFFSETFROM:-0600
TZOFFSETTO:-0500
RDATE:20230312T020000
RDATE:20240310T020000
END:DAYLIGHT
END:VTIMEZONE
BEGIN:VEVENT
UID:ecac2e2f-0427-4421-a60d-cb437de5c32d
DTSTAMP:20260422T115953Z
DESCRIPTION:Department of the Interior - Bipartisan Infrastructure Law Indu
 stry Day\n\nWhen: October 18\, 2022\nWhere: Online event\nRegistration Lin
 k: (Free Registration) https://forms.office.com/g/9NqHnJMd14\n\nAbout the 
 Event: \n\nOn behalf of the U.S. Department of the Interior (DOI)\, the Of
 fice of Small and Disadvantaged Business Utilization (OSDBU) and the Offic
 e of Grants Management\, we are inviting you to attend the U. S. Departmen
 t of the Interior Bipartisan Infrastructure Law (BIL) Virtual Industry Day
 . The event will be held on the afternoon of Tuesday\, October 18th from 2
 :00 p.m. to 4:30 p.m. Eastern Time.\nThe BIL Industry Day will include a p
 resentation from nine DOI Bureaus and Offices who will share information o
 n Fiscal Year 2023 BIL related contracting and financial assistance opport
 unities\, followed by each Bureau/Office hosting a breakout room where par
 ticipants can join\, ask questions\, and engage directly with DOI Bureaus/
 Office representatives.\n
DTSTART;TZID=America/Chicago:20221018T130000
DTEND;TZID=America/Chicago:20221018T153000
LOCATION:https://forms.office.com/g/9NqHnJMd14
SUMMARY:Department of the Interior - Bipartisan Infrastructure Law Industry
  Day
END:VEVENT
END:VCALENDAR
