BEGIN:VCALENDAR
VERSION:2.0
PRODID:-//pedco-ne.org//NONSGML kigkonsult.se iCalcreator 2.30.10//
CALSCALE:GREGORIAN
METHOD:PUBLISH
UID:249a7fb1-6605-4797-aba3-6e9cab12491d
X-WR-CALDESC:(Free of charge to PEDCO PTAC clients - a $75 value)\n\nWhen i
 t comes to effective communication\, the government and industry often get
  it wrong. Misconceptions and misunderstandings abound and can prove very 
 costly for contractors.\n\nIn this webinar\, government contracts attorney
  Shane McCall debunks some of the most common myths and misunderstandings 
 held by contractors\, including when and how you can communicate one-on-on
 e with a contracting officer\, who has authority to modify your contract\,
  what to do when an unauthorized official gives you instructions\, how the
  government gratuities rules differ from standard commercial practice\, an
 d much more.\n\nTarget Audience: Companies seeking federal contracting opp
 ortunities
X-WR-RELCALID:d06f6fd82fcd7c9b05682c12ab0139c2
X-WR-TIMEZONE:America/Chicago
BEGIN:VTIMEZONE
TZID:America/Chicago
BEGIN:STANDARD
TZNAME:CST
DTSTART:20211107T020000
TZOFFSETFROM:-0500
TZOFFSETTO:-0600
RDATE:20221106T020000
RDATE:20231105T020000
END:STANDARD
BEGIN:DAYLIGHT
TZNAME:CDT
DTSTART:20220313T020000
TZOFFSETFROM:-0600
TZOFFSETTO:-0500
RDATE:20230312T020000
RDATE:20240310T020000
END:DAYLIGHT
END:VTIMEZONE
BEGIN:VEVENT
UID:69971225-7d6c-41c5-9ef9-811d99087312
DTSTAMP:20260422T115953Z
DESCRIPTION:(Free of charge to PEDCO PTAC clients - a $75 value)\n\nWhen it
  comes to effective communication\, the government and industry often get 
 it wrong. Misconceptions and misunderstandings abound and can prove very c
 ostly for contractors.\n\nIn this webinar\, government contracts attorney 
 Shane McCall debunks some of the most common myths and misunderstandings h
 eld by contractors\, including when and how you can communicate one-on-one
  with a contracting officer\, who has authority to modify your contract\, 
 what to do when an unauthorized official gives you instructions\, how the 
 government gratuities rules differ from standard commercial practice\, and
  much more.\n\nTarget Audience: Companies seeking federal contracting oppo
 rtunities
DTSTART;TZID=America/Chicago:20221020T120000
DTEND;TZID=America/Chicago:20221020T133000
LOCATION:https://govology.com/product/communicating-with-government-contrac
 ting-officials-what-can-and-should-contractors-really-say-and-do/
SUMMARY:Communicating with Government Contracting Officials: What Can (and 
 Should) Contractors Really Say and Do?
END:VEVENT
END:VCALENDAR
