BEGIN:VCALENDAR
VERSION:2.0
PRODID:-//pedco-ne.org//NONSGML kigkonsult.se iCalcreator 2.30.10//
CALSCALE:GREGORIAN
METHOD:PUBLISH
UID:a52ce7b3-b4b4-440e-b51d-52f5849d3497
X-WR-CALDESC:(Free of charge to PEDCO PTAC clients - a $75 value)\n\nThe De
 partment of the Army procures over $24 billion of products and services an
 nually from small businesses\, ranging from commercially available items t
 o research and development for military-specific weapons systems platforms
 . Being “procurement ready” is key to successfully competing for Army cont
 racting opportunities. In this webinar\, participants will learn about the
  Army’s small business program. Topics covered include Army strategic prio
 rities\, small business initiatives\, upcoming events\, and tips for how t
 o be “procurement ready.” Participants will leave with key resources and p
 oints of contact for procurement opportunities. This is a must attend webi
 nar for businesses interested in working with the Army!\n\nTarget Audience
 : Small businesses interested in working with the Department of the Army
X-WR-RELCALID:71d1bc1d9fd1c49717db840e225d6f99
X-WR-TIMEZONE:America/Chicago
BEGIN:VTIMEZONE
TZID:America/Chicago
BEGIN:STANDARD
TZNAME:CST
DTSTART:20211107T020000
TZOFFSETFROM:-0500
TZOFFSETTO:-0600
RDATE:20221106T020000
RDATE:20231105T020000
END:STANDARD
BEGIN:DAYLIGHT
TZNAME:CDT
DTSTART:20220313T020000
TZOFFSETFROM:-0600
TZOFFSETTO:-0500
RDATE:20230312T020000
RDATE:20240310T020000
END:DAYLIGHT
END:VTIMEZONE
BEGIN:VEVENT
UID:92084a59-ef14-41ea-a2a0-8ca3fd2bb4cd
DTSTAMP:20260422T115619Z
DESCRIPTION:(Free of charge to PEDCO PTAC clients - a $75 value)\n\nThe Dep
 artment of the Army procures over $24 billion of products and services ann
 ually from small businesses\, ranging from commercially available items to
  research and development for military-specific weapons systems platforms.
  Being “procurement ready” is key to successfully competing for Army contr
 acting opportunities. In this webinar\, participants will learn about the 
 Army’s small business program. Topics covered include Army strategic prior
 ities\, small business initiatives\, upcoming events\, and tips for how to
  be “procurement ready.” Participants will leave with key resources and po
 ints of contact for procurement opportunities. This is a must attend webin
 ar for businesses interested in working with the Army!\n\nTarget Audience:
  Small businesses interested in working with the Department of the Army
DTSTART;TZID=America/Chicago:20221025T120000
DTEND;TZID=America/Chicago:20221025T133000
LOCATION:https://govology.com/product/doing-business-with-the-army-as-a-sma
 ll-business/
SUMMARY:Doing Business with the Army as a Small Business
END:VEVENT
END:VCALENDAR
