BEGIN:VCALENDAR
VERSION:2.0
PRODID:-//pedco-ne.org//NONSGML kigkonsult.se iCalcreator 2.30.10//
CALSCALE:GREGORIAN
METHOD:PUBLISH
UID:7416b3b7-085e-4ed3-900f-8d1fddb0ea17
X-WR-CALDESC:
X-WR-RELCALID:7556698d7a5c44a1f8f9150d4950f68e
X-WR-TIMEZONE:America/Chicago
BEGIN:VTIMEZONE
TZID:America/Chicago
BEGIN:STANDARD
TZNAME:CST
DTSTART:20211107T020000
TZOFFSETFROM:-0500
TZOFFSETTO:-0600
RDATE:20221106T020000
RDATE:20231105T020000
END:STANDARD
BEGIN:DAYLIGHT
TZNAME:CDT
DTSTART:20220313T020000
TZOFFSETFROM:-0600
TZOFFSETTO:-0500
RDATE:20230312T020000
RDATE:20240310T020000
END:DAYLIGHT
END:VTIMEZONE
BEGIN:VEVENT
UID:e018bd43-720a-4409-a536-a8287df88c8d
DTSTAMP:20260422T115501Z
DESCRIPTION:
DTSTART;TZID=America/Chicago:20221101T130000
DTEND;TZID=America/Chicago:20221101T143000
LOCATION:
SUMMARY:Department of Defense Mentor-Protégé Program
END:VEVENT
END:VCALENDAR
