BEGIN:VCALENDAR
VERSION:2.0
PRODID:-//pedco-ne.org//NONSGML kigkonsult.se iCalcreator 2.30.10//
CALSCALE:GREGORIAN
METHOD:PUBLISH
UID:4b9dc5d9-9099-4a35-957a-a7ae94e60e83
X-WR-CALDESC:
X-WR-RELCALID:44ec78a401a56b859b18cbdb2726b8ab
X-WR-TIMEZONE:America/Chicago
BEGIN:VTIMEZONE
TZID:America/Chicago
BEGIN:STANDARD
TZNAME:CST
DTSTART:20211107T020000
TZOFFSETFROM:-0500
TZOFFSETTO:-0600
RDATE:20221106T020000
RDATE:20231105T020000
END:STANDARD
BEGIN:DAYLIGHT
TZNAME:CDT
DTSTART:20220313T020000
TZOFFSETFROM:-0600
TZOFFSETTO:-0500
RDATE:20230312T020000
RDATE:20240310T020000
END:DAYLIGHT
END:VTIMEZONE
BEGIN:VEVENT
UID:f654a9df-fd70-465e-9572-1db4b87267f4
DTSTAMP:20260422T104036Z
DESCRIPTION:
DTSTART;TZID=America/Chicago:20221103T130000
DTEND;TZID=America/Chicago:20221103T143000
LOCATION:
SUMMARY:How to “Really” Prepare for and Win Federal Contracts
END:VEVENT
END:VCALENDAR
