BEGIN:VCALENDAR
VERSION:2.0
PRODID:-//pedco-ne.org//NONSGML kigkonsult.se iCalcreator 2.30.10//
CALSCALE:GREGORIAN
METHOD:PUBLISH
UID:c0f9b14d-30fd-476c-b1a7-161cb769b679
X-WR-CALDESC:Virtual Incident Procurement (VIPR) is a web-based Forest Serv
 ice application designed to administer preseason Incident Blanket Purchase
  Agreements (I-BPAs – formerly referred to as Emergency Equipment Rental A
 greements or EERAs). This training covers all the steps needed to successf
 ully get your equipment in VIPR.\n\nPart 1 will cover the following:\n\n– 
 Equipment under VIPR each year\n– Where and how to register\n– SAM and eAu
 thentication Level 2\n– Important websites\n– Researching pricing\n\nPart 
 2 will address accessing VIPR and completing your profile and NAP/IROC – s
 tatus of your equipment.\n\nTarget Audience: Businesses interested in cont
 racting their equipment for wildland fires with the Forest Service.
X-WR-RELCALID:2af4aede22bb97c169d689cb7bb2d436
X-WR-TIMEZONE:America/Chicago
BEGIN:VTIMEZONE
TZID:America/Chicago
BEGIN:STANDARD
TZNAME:CST
DTSTART:20221106T020000
TZOFFSETFROM:-0500
TZOFFSETTO:-0600
RDATE:20231105T020000
END:STANDARD
BEGIN:DAYLIGHT
TZNAME:CDT
DTSTART:20220313T020000
TZOFFSETFROM:-0600
TZOFFSETTO:-0500
RDATE:20230312T020000
RDATE:20240310T020000
END:DAYLIGHT
END:VTIMEZONE
BEGIN:VEVENT
UID:90426676-0903-454e-b639-79d6a1c1d544
DTSTAMP:20260422T091307Z
DESCRIPTION:Virtual Incident Procurement (VIPR) is a web-based Forest Servi
 ce application designed to administer preseason Incident Blanket Purchase 
 Agreements (I-BPAs – formerly referred to as Emergency Equipment Rental Ag
 reements or EERAs). This training covers all the steps needed to successfu
 lly get your equipment in VIPR.\n\nPart 1 will cover the following:\n\n– E
 quipment under VIPR each year\n– Where and how to register\n– SAM and eAut
 hentication Level 2\n– Important websites\n– Researching pricing\n\nPart 2
  will address accessing VIPR and completing your profile and NAP/IROC – st
 atus of your equipment.\n\nTarget Audience: Businesses interested in contr
 acting their equipment for wildland fires with the Forest Service.
DTSTART;TZID=America/Chicago:20221201T130000
DTEND;TZID=America/Chicago:20221201T143000
LOCATION:https://govology.com/events/intervention-in-federal-bid-protests-d
 efending-your-contract-award/
SUMMARY:Understanding VIPR – Virtual Incident Procurement
END:VEVENT
END:VCALENDAR
