BEGIN:VCALENDAR
VERSION:2.0
PRODID:-//pedco-ne.org//NONSGML kigkonsult.se iCalcreator 2.30.10//
CALSCALE:GREGORIAN
METHOD:PUBLISH
UID:0d17f3ca-e460-4e31-ac34-821fb9dd35e3
X-WR-CALDESC:In today’s increasingly competitive federal market\, protests 
 are almost inevitable. Have you ever received an award notice\, only to be
  told several days later that the contract is on hold\, all because of a b
 id protest filed by a disgruntled competitor? If so\, you may know how har
 d it can be to find answers and how quickly you can miss an important dead
 line in the meantime. In this webinar\, experienced government contracting
  attorney Maria Panichelli will provide you with the roadmap and resources
  necessary to defend against the protest\, keep the contract you earned\, 
 and keep your costs down.  \n\nYou will learn about:\n\n– Bid protests\n– 
 The processes and procedures of intervention\n– Common bid protest defense
 s and strategies\n– Practical tips about how to mitigate risk and costs\n–
  How to keep the contracts you won\n\nTarget Audience: Government contract
 ors of any level\; any government contractor anticipating possible bid pro
 tests
X-WR-RELCALID:1f290262e86438eb0de6bf2463389eee
X-WR-TIMEZONE:America/Chicago
BEGIN:VTIMEZONE
TZID:America/Chicago
BEGIN:STANDARD
TZNAME:CST
DTSTART:20221106T020000
TZOFFSETFROM:-0500
TZOFFSETTO:-0600
RDATE:20231105T020000
END:STANDARD
BEGIN:DAYLIGHT
TZNAME:CDT
DTSTART:20220313T020000
TZOFFSETFROM:-0600
TZOFFSETTO:-0500
RDATE:20230312T020000
RDATE:20240310T020000
END:DAYLIGHT
END:VTIMEZONE
BEGIN:VEVENT
UID:02a338b1-12c0-41bd-b8c8-98a319a6c7e6
DTSTAMP:20260422T091150Z
DESCRIPTION:In today’s increasingly competitive federal market\, protests a
 re almost inevitable. Have you ever received an award notice\, only to be 
 told several days later that the contract is on hold\, all because of a bi
 d protest filed by a disgruntled competitor? If so\, you may know how hard
  it can be to find answers and how quickly you can miss an important deadl
 ine in the meantime. In this webinar\, experienced government contracting 
 attorney Maria Panichelli will provide you with the roadmap and resources 
 necessary to defend against the protest\, keep the contract you earned\, a
 nd keep your costs down.  \n\nYou will learn about:\n\n– Bid protests\n– T
 he processes and procedures of intervention\n– Common bid protest defenses
  and strategies\n– Practical tips about how to mitigate risk and costs\n– 
 How to keep the contracts you won\n\nTarget Audience: Government contracto
 rs of any level\; any government contractor anticipating possible bid prot
 ests
DTSTART;TZID=America/Chicago:20221205T130000
DTEND;TZID=America/Chicago:20221205T143000
LOCATION:https://govology.com/events/intervention-in-federal-bid-protests-d
 efending-your-contract-award/
SUMMARY:Intervention in Federal Bid Protests: Defending Your Contract Award
END:VEVENT
END:VCALENDAR
