BEGIN:VCALENDAR
VERSION:2.0
PRODID:-//pedco-ne.org//NONSGML kigkonsult.se iCalcreator 2.30.10//
CALSCALE:GREGORIAN
METHOD:PUBLISH
UID:cd1f7c18-d533-433e-8cf0-70d8d88fa598
X-WR-CALDESC:In this webinar\, government contracting attorney Shane McCall
  and Govology Legal Analyst Steven Koprince will cover the most important 
 legal developments for federal contractors in 2022\, including new small b
 usiness rules\, recent domestic preference changes under the Buy American 
 Act\, key provisions of the 2023 National Defense Authorization Act\, and 
 much more.\n\nTarget Audience: Small businesses pursuing federal governmen
 t opportunities
X-WR-RELCALID:4887d6381fee60347d5a41ac149444ec
X-WR-TIMEZONE:America/Chicago
BEGIN:VTIMEZONE
TZID:America/Chicago
BEGIN:STANDARD
TZNAME:CST
DTSTART:20221106T020000
TZOFFSETFROM:-0500
TZOFFSETTO:-0600
RDATE:20231105T020000
END:STANDARD
BEGIN:DAYLIGHT
TZNAME:CDT
DTSTART:20220313T020000
TZOFFSETFROM:-0600
TZOFFSETTO:-0500
RDATE:20230312T020000
RDATE:20240310T020000
END:DAYLIGHT
END:VTIMEZONE
BEGIN:VEVENT
UID:98566244-538c-468b-8b36-54c8c26e6e9c
DTSTAMP:20260422T091500Z
DESCRIPTION:In this webinar\, government contracting attorney Shane McCall 
 and Govology Legal Analyst Steven Koprince will cover the most important l
 egal developments for federal contractors in 2022\, including new small bu
 siness rules\, recent domestic preference changes under the Buy American A
 ct\, key provisions of the 2023 National Defense Authorization Act\, and m
 uch more.\n\nTarget Audience: Small businesses pursuing federal government
  opportunities
DTSTART;TZID=America/Chicago:20221208T130000
DTEND;TZID=America/Chicago:20221208T143000
LOCATION:https://govology.com/events/2022-government-contracts-year-end-rev
 iew/
SUMMARY:2022 Government Contracts Year-End Review
END:VEVENT
END:VCALENDAR
