BEGIN:VCALENDAR
VERSION:2.0
PRODID:-//pedco-ne.org//NONSGML kigkonsult.se iCalcreator 2.30.10//
CALSCALE:GREGORIAN
METHOD:PUBLISH
UID:d961fdd0-e6e1-4268-bdb9-d602d34a9985
X-WR-CALDESC:Virtual Incident Procurement (VIPR) is a web-based Forest Serv
 ice application designed to administer preseason Incident Blanket Purchase
  Agreements (I-BPAs – formerly referred to as Emergency Equipment Rental A
 greements or EERAs). This training covers all the steps needed to successf
 ully get your equipment in VIPR.\n\nPart 1 will cover the following:\n\n– 
 Equipment under VIPR each year\n– Where and how to register\n– SAM and eAu
 thentication Level 2\n– Important websites\n– Researching pricing\n\nPart 
 2 will address accessing VIPR and completing your profile and NAP/IROC – s
 tatus of your equipment.\n\nTarget Audience: Businesses interested in cont
 racting their equipment for wildland fires with the Forest Service.
X-WR-RELCALID:1d97610e7e62fde2e5f4960aebca719b
X-WR-TIMEZONE:America/Chicago
BEGIN:VTIMEZONE
TZID:America/Chicago
BEGIN:STANDARD
TZNAME:CST
DTSTART:20221106T020000
TZOFFSETFROM:-0500
TZOFFSETTO:-0600
RDATE:20231105T020000
END:STANDARD
BEGIN:DAYLIGHT
TZNAME:CDT
DTSTART:20220313T020000
TZOFFSETFROM:-0600
TZOFFSETTO:-0500
RDATE:20230312T020000
RDATE:20240310T020000
END:DAYLIGHT
END:VTIMEZONE
BEGIN:VEVENT
UID:71fc6ee4-5de7-4b3b-be38-0d13d4ec4e7c
DTSTAMP:20260422T075124Z
DESCRIPTION:Virtual Incident Procurement (VIPR) is a web-based Forest Servi
 ce application designed to administer preseason Incident Blanket Purchase 
 Agreements (I-BPAs – formerly referred to as Emergency Equipment Rental Ag
 reements or EERAs). This training covers all the steps needed to successfu
 lly get your equipment in VIPR.\n\nPart 1 will cover the following:\n\n– E
 quipment under VIPR each year\n– Where and how to register\n– SAM and eAut
 hentication Level 2\n– Important websites\n– Researching pricing\n\nPart 2
  will address accessing VIPR and completing your profile and NAP/IROC – st
 atus of your equipment.\n\nTarget Audience: Businesses interested in contr
 acting their equipment for wildland fires with the Forest Service.
DTSTART;TZID=America/Chicago:20230112T130000
DTEND;TZID=America/Chicago:20230112T143000
LOCATION:https://govology.com/events/understanding-vipr-virtual-incident-pr
 ocurement/
SUMMARY:Understanding VIPR – Virtual Incident Procurement
END:VEVENT
END:VCALENDAR
