BEGIN:VCALENDAR
VERSION:2.0
PRODID:-//pedco-ne.org//NONSGML kigkonsult.se iCalcreator 2.30.10//
CALSCALE:GREGORIAN
METHOD:PUBLISH
UID:4f0a128f-e332-48b1-9e50-d16447bcc5e3
X-WR-CALDESC:Women-Owned Small Business (WOSBs) self-certification is now a
  thing of the past. Effective October 15\, 2020\, all WOSBs must go throug
 h the SBA’s free certification process at wosb.certify.sba.gov or get cert
 ified by an approved Third-Party Certifier (TPC). This change is the resul
 t of the updated WOSB Federal Contracting Program regulations\, meant to r
 educe fraud\, improve applicants’ registration experience\, and enhance th
 e Small Business Administration’s (SBA) certification oversight.\n\nHoweve
 r\, these changes have not been entirely painless. Many WOSB certification
  applicants have needed help navigating the new process. This webinar will
  address the most common challenges and provide a step-by-step guide to co
 mpleting the WOSB certification. Specifically\, we will review the require
 ments for program eligibility\, the certification process\, and maintainin
 g your WOSB certification. We will also discuss the benefits of the WOSB F
 ederal Contracting program.\n\nTarget Audience: Small business owners\, wo
 man-owned small businesses\, female entrepreneurs interested in pursuing g
 overnment contracting\, contract managers\, marketing and sales personnel
X-WR-RELCALID:374c203f13a76f634bcc4ce0039bb4d5
X-WR-TIMEZONE:America/Chicago
BEGIN:VTIMEZONE
TZID:America/Chicago
BEGIN:STANDARD
TZNAME:CST
DTSTART:20221106T020000
TZOFFSETFROM:-0500
TZOFFSETTO:-0600
RDATE:20231105T020000
END:STANDARD
BEGIN:DAYLIGHT
TZNAME:CDT
DTSTART:20220313T020000
TZOFFSETFROM:-0600
TZOFFSETTO:-0500
RDATE:20230312T020000
RDATE:20240310T020000
END:DAYLIGHT
END:VTIMEZONE
BEGIN:VEVENT
UID:d1fee40c-4e70-4038-9f8a-f7815682a39e
DTSTAMP:20260422T075608Z
DESCRIPTION:Women-Owned Small Business (WOSBs) self-certification is now a 
 thing of the past. Effective October 15\, 2020\, all WOSBs must go through
  the SBA’s free certification process at wosb.certify.sba.gov or get certi
 fied by an approved Third-Party Certifier (TPC). This change is the result
  of the updated WOSB Federal Contracting Program regulations\, meant to re
 duce fraud\, improve applicants’ registration experience\, and enhance the
  Small Business Administration’s (SBA) certification oversight.\n\nHowever
 \, these changes have not been entirely painless. Many WOSB certification 
 applicants have needed help navigating the new process. This webinar will 
 address the most common challenges and provide a step-by-step guide to com
 pleting the WOSB certification. Specifically\, we will review the requirem
 ents for program eligibility\, the certification process\, and maintaining
  your WOSB certification. We will also discuss the benefits of the WOSB Fe
 deral Contracting program.\n\nTarget Audience: Small business owners\, wom
 an-owned small businesses\, female entrepreneurs interested in pursuing go
 vernment contracting\, contract managers\, marketing and sales personnel
DTSTART;TZID=America/Chicago:20230117T130000
DTEND;TZID=America/Chicago:20230117T143000
LOCATION:https://govology.com/events/a-step-by-step-guide-to-registering-yo
 ur-wosb/
SUMMARY:A Step-By-Step Guide to Registering Your WOSB
END:VEVENT
END:VCALENDAR
